BEGIN:VCALENDAR
VERSION:2.0
PRODID:-//Castle Fun Center - ECPv6.15.20//NONSGML v1.0//EN
CALSCALE:GREGORIAN
METHOD:PUBLISH
X-ORIGINAL-URL:https://thecastlefuncenter.com
X-WR-CALDESC:Events for Castle Fun Center
REFRESH-INTERVAL;VALUE=DURATION:PT1H
X-Robots-Tag:noindex
X-PUBLISHED-TTL:PT1H
BEGIN:VTIMEZONE
TZID:America/New_York
BEGIN:DAYLIGHT
TZOFFSETFROM:-0500
TZOFFSETTO:-0400
TZNAME:EDT
DTSTART:20260308T070000
END:DAYLIGHT
BEGIN:STANDARD
TZOFFSETFROM:-0400
TZOFFSETTO:-0500
TZNAME:EST
DTSTART:20261101T060000
END:STANDARD
BEGIN:DAYLIGHT
TZOFFSETFROM:-0500
TZOFFSETTO:-0400
TZNAME:EDT
DTSTART:20270314T070000
END:DAYLIGHT
BEGIN:STANDARD
TZOFFSETFROM:-0400
TZOFFSETTO:-0500
TZNAME:EST
DTSTART:20271107T060000
END:STANDARD
BEGIN:DAYLIGHT
TZOFFSETFROM:-0500
TZOFFSETTO:-0400
TZNAME:EDT
DTSTART:20280312T070000
END:DAYLIGHT
BEGIN:STANDARD
TZOFFSETFROM:-0400
TZOFFSETTO:-0500
TZNAME:EST
DTSTART:20281105T060000
END:STANDARD
BEGIN:DAYLIGHT
TZOFFSETFROM:-0500
TZOFFSETTO:-0400
TZNAME:EDT
DTSTART:20290311T070000
END:DAYLIGHT
BEGIN:STANDARD
TZOFFSETFROM:-0400
TZOFFSETTO:-0500
TZNAME:EST
DTSTART:20291104T060000
END:STANDARD
END:VTIMEZONE
BEGIN:VEVENT
DTSTART;TZID=America/New_York:20270715T080000
DTEND;TZID=America/New_York:20270715T170000
DTSTAMP:20260421T194816
CREATED:20260127T141113Z
LAST-MODIFIED:20260202T154530Z
UID:10000370-1815638400-1815670800@thecastlefuncenter.com
SUMMARY:Burgers and Beer
DESCRIPTION:
URL:https://thecastlefuncenter.com/event/burgers-and-beer/2027-07-15/
LOCATION:The Castle Fun Center\, 109 Brookside Avenue\, Chester\, 10918\, United States
END:VEVENT
BEGIN:VEVENT
DTSTART;TZID=America/New_York:20270722T080000
DTEND;TZID=America/New_York:20270722T170000
DTSTAMP:20260421T194816
CREATED:20260127T141113Z
LAST-MODIFIED:20260202T154530Z
UID:10000371-1816243200-1816275600@thecastlefuncenter.com
SUMMARY:Burgers and Beer
DESCRIPTION:
URL:https://thecastlefuncenter.com/event/burgers-and-beer/2027-07-22/
LOCATION:The Castle Fun Center\, 109 Brookside Avenue\, Chester\, 10918\, United States
END:VEVENT
BEGIN:VEVENT
DTSTART;TZID=America/New_York:20270729T080000
DTEND;TZID=America/New_York:20270729T170000
DTSTAMP:20260421T194816
CREATED:20260127T141113Z
LAST-MODIFIED:20260202T154530Z
UID:10000372-1816848000-1816880400@thecastlefuncenter.com
SUMMARY:Burgers and Beer
DESCRIPTION:
URL:https://thecastlefuncenter.com/event/burgers-and-beer/2027-07-29/
LOCATION:The Castle Fun Center\, 109 Brookside Avenue\, Chester\, 10918\, United States
END:VEVENT
BEGIN:VEVENT
DTSTART;TZID=America/New_York:20270805T080000
DTEND;TZID=America/New_York:20270805T170000
DTSTAMP:20260421T194816
CREATED:20260127T141113Z
LAST-MODIFIED:20260202T154530Z
UID:10000373-1817452800-1817485200@thecastlefuncenter.com
SUMMARY:Burgers and Beer
DESCRIPTION:
URL:https://thecastlefuncenter.com/event/burgers-and-beer/2027-08-05/
LOCATION:The Castle Fun Center\, 109 Brookside Avenue\, Chester\, 10918\, United States
END:VEVENT
BEGIN:VEVENT
DTSTART;TZID=America/New_York:20270812T080000
DTEND;TZID=America/New_York:20270812T170000
DTSTAMP:20260421T194816
CREATED:20260127T141113Z
LAST-MODIFIED:20260202T154530Z
UID:10000374-1818057600-1818090000@thecastlefuncenter.com
SUMMARY:Burgers and Beer
DESCRIPTION:
URL:https://thecastlefuncenter.com/event/burgers-and-beer/2027-08-12/
LOCATION:The Castle Fun Center\, 109 Brookside Avenue\, Chester\, 10918\, United States
END:VEVENT
BEGIN:VEVENT
DTSTART;TZID=America/New_York:20270819T080000
DTEND;TZID=America/New_York:20270819T170000
DTSTAMP:20260421T194816
CREATED:20260127T141113Z
LAST-MODIFIED:20260202T154530Z
UID:10000375-1818662400-1818694800@thecastlefuncenter.com
SUMMARY:Burgers and Beer
DESCRIPTION:
URL:https://thecastlefuncenter.com/event/burgers-and-beer/2027-08-19/
LOCATION:The Castle Fun Center\, 109 Brookside Avenue\, Chester\, 10918\, United States
END:VEVENT
BEGIN:VEVENT
DTSTART;TZID=America/New_York:20270826T080000
DTEND;TZID=America/New_York:20270826T170000
DTSTAMP:20260421T194816
CREATED:20260127T141113Z
LAST-MODIFIED:20260202T154530Z
UID:10000376-1819267200-1819299600@thecastlefuncenter.com
SUMMARY:Burgers and Beer
DESCRIPTION:
URL:https://thecastlefuncenter.com/event/burgers-and-beer/2027-08-26/
LOCATION:The Castle Fun Center\, 109 Brookside Avenue\, Chester\, 10918\, United States
END:VEVENT
BEGIN:VEVENT
DTSTART;TZID=America/New_York:20270902T080000
DTEND;TZID=America/New_York:20270902T170000
DTSTAMP:20260421T194816
CREATED:20260127T141113Z
LAST-MODIFIED:20260202T154530Z
UID:10000377-1819872000-1819904400@thecastlefuncenter.com
SUMMARY:Burgers and Beer
DESCRIPTION:
URL:https://thecastlefuncenter.com/event/burgers-and-beer/2027-09-02/
LOCATION:The Castle Fun Center\, 109 Brookside Avenue\, Chester\, 10918\, United States
END:VEVENT
BEGIN:VEVENT
DTSTART;TZID=America/New_York:20270909T080000
DTEND;TZID=America/New_York:20270909T170000
DTSTAMP:20260421T194816
CREATED:20260127T141113Z
LAST-MODIFIED:20260202T154530Z
UID:10000378-1820476800-1820509200@thecastlefuncenter.com
SUMMARY:Burgers and Beer
DESCRIPTION:
URL:https://thecastlefuncenter.com/event/burgers-and-beer/2027-09-09/
LOCATION:The Castle Fun Center\, 109 Brookside Avenue\, Chester\, 10918\, United States
END:VEVENT
BEGIN:VEVENT
DTSTART;TZID=America/New_York:20270916T080000
DTEND;TZID=America/New_York:20270916T170000
DTSTAMP:20260421T194816
CREATED:20260127T141113Z
LAST-MODIFIED:20260202T154530Z
UID:10000379-1821081600-1821114000@thecastlefuncenter.com
SUMMARY:Burgers and Beer
DESCRIPTION:
URL:https://thecastlefuncenter.com/event/burgers-and-beer/2027-09-16/
LOCATION:The Castle Fun Center\, 109 Brookside Avenue\, Chester\, 10918\, United States
END:VEVENT
BEGIN:VEVENT
DTSTART;TZID=America/New_York:20270923T080000
DTEND;TZID=America/New_York:20270923T170000
DTSTAMP:20260421T194816
CREATED:20260127T141113Z
LAST-MODIFIED:20260202T154530Z
UID:10000380-1821686400-1821718800@thecastlefuncenter.com
SUMMARY:Burgers and Beer
DESCRIPTION:
URL:https://thecastlefuncenter.com/event/burgers-and-beer/2027-09-23/
LOCATION:The Castle Fun Center\, 109 Brookside Avenue\, Chester\, 10918\, United States
END:VEVENT
BEGIN:VEVENT
DTSTART;TZID=America/New_York:20270930T080000
DTEND;TZID=America/New_York:20270930T170000
DTSTAMP:20260421T194816
CREATED:20260127T141113Z
LAST-MODIFIED:20260202T154530Z
UID:10000381-1822291200-1822323600@thecastlefuncenter.com
SUMMARY:Burgers and Beer
DESCRIPTION:
URL:https://thecastlefuncenter.com/event/burgers-and-beer/2027-09-30/
LOCATION:The Castle Fun Center\, 109 Brookside Avenue\, Chester\, 10918\, United States
END:VEVENT
BEGIN:VEVENT
DTSTART;TZID=America/New_York:20271007T080000
DTEND;TZID=America/New_York:20271007T170000
DTSTAMP:20260421T194816
CREATED:20260127T141113Z
LAST-MODIFIED:20260202T154530Z
UID:10000382-1822896000-1822928400@thecastlefuncenter.com
SUMMARY:Burgers and Beer
DESCRIPTION:
URL:https://thecastlefuncenter.com/event/burgers-and-beer/2027-10-07/
LOCATION:The Castle Fun Center\, 109 Brookside Avenue\, Chester\, 10918\, United States
END:VEVENT
BEGIN:VEVENT
DTSTART;TZID=America/New_York:20271014T080000
DTEND;TZID=America/New_York:20271014T170000
DTSTAMP:20260421T194816
CREATED:20260127T141113Z
LAST-MODIFIED:20260202T154530Z
UID:10000383-1823500800-1823533200@thecastlefuncenter.com
SUMMARY:Burgers and Beer
DESCRIPTION:
URL:https://thecastlefuncenter.com/event/burgers-and-beer/2027-10-14/
LOCATION:The Castle Fun Center\, 109 Brookside Avenue\, Chester\, 10918\, United States
END:VEVENT
BEGIN:VEVENT
DTSTART;TZID=America/New_York:20271021T080000
DTEND;TZID=America/New_York:20271021T170000
DTSTAMP:20260421T194816
CREATED:20260127T141113Z
LAST-MODIFIED:20260202T154530Z
UID:10000384-1824105600-1824138000@thecastlefuncenter.com
SUMMARY:Burgers and Beer
DESCRIPTION:
URL:https://thecastlefuncenter.com/event/burgers-and-beer/2027-10-21/
LOCATION:The Castle Fun Center\, 109 Brookside Avenue\, Chester\, 10918\, United States
END:VEVENT
BEGIN:VEVENT
DTSTART;TZID=America/New_York:20271028T080000
DTEND;TZID=America/New_York:20271028T170000
DTSTAMP:20260421T194816
CREATED:20260127T141113Z
LAST-MODIFIED:20260202T154530Z
UID:10000385-1824710400-1824742800@thecastlefuncenter.com
SUMMARY:Burgers and Beer
DESCRIPTION:
URL:https://thecastlefuncenter.com/event/burgers-and-beer/2027-10-28/
LOCATION:The Castle Fun Center\, 109 Brookside Avenue\, Chester\, 10918\, United States
END:VEVENT
BEGIN:VEVENT
DTSTART;TZID=America/New_York:20271104T080000
DTEND;TZID=America/New_York:20271104T170000
DTSTAMP:20260421T194816
CREATED:20260127T141113Z
LAST-MODIFIED:20260202T154530Z
UID:10000386-1825315200-1825347600@thecastlefuncenter.com
SUMMARY:Burgers and Beer
DESCRIPTION:
URL:https://thecastlefuncenter.com/event/burgers-and-beer/2027-11-04/
LOCATION:The Castle Fun Center\, 109 Brookside Avenue\, Chester\, 10918\, United States
END:VEVENT
BEGIN:VEVENT
DTSTART;TZID=America/New_York:20271111T080000
DTEND;TZID=America/New_York:20271111T170000
DTSTAMP:20260421T194816
CREATED:20260127T141113Z
LAST-MODIFIED:20260202T154530Z
UID:10000387-1825920000-1825952400@thecastlefuncenter.com
SUMMARY:Burgers and Beer
DESCRIPTION:
URL:https://thecastlefuncenter.com/event/burgers-and-beer/2027-11-11/
LOCATION:The Castle Fun Center\, 109 Brookside Avenue\, Chester\, 10918\, United States
END:VEVENT
BEGIN:VEVENT
DTSTART;TZID=America/New_York:20271118T080000
DTEND;TZID=America/New_York:20271118T170000
DTSTAMP:20260421T194816
CREATED:20260127T141113Z
LAST-MODIFIED:20260202T154530Z
UID:10000388-1826524800-1826557200@thecastlefuncenter.com
SUMMARY:Burgers and Beer
DESCRIPTION:
URL:https://thecastlefuncenter.com/event/burgers-and-beer/2027-11-18/
LOCATION:The Castle Fun Center\, 109 Brookside Avenue\, Chester\, 10918\, United States
END:VEVENT
BEGIN:VEVENT
DTSTART;TZID=America/New_York:20271125T080000
DTEND;TZID=America/New_York:20271125T170000
DTSTAMP:20260421T194816
CREATED:20260127T141113Z
LAST-MODIFIED:20260202T154530Z
UID:10000389-1827129600-1827162000@thecastlefuncenter.com
SUMMARY:Burgers and Beer
DESCRIPTION:
URL:https://thecastlefuncenter.com/event/burgers-and-beer/2027-11-25/
LOCATION:The Castle Fun Center\, 109 Brookside Avenue\, Chester\, 10918\, United States
END:VEVENT
BEGIN:VEVENT
DTSTART;TZID=America/New_York:20271202T080000
DTEND;TZID=America/New_York:20271202T170000
DTSTAMP:20260421T194816
CREATED:20260127T141113Z
LAST-MODIFIED:20260202T154530Z
UID:10000390-1827734400-1827766800@thecastlefuncenter.com
SUMMARY:Burgers and Beer
DESCRIPTION:
URL:https://thecastlefuncenter.com/event/burgers-and-beer/2027-12-02/
LOCATION:The Castle Fun Center\, 109 Brookside Avenue\, Chester\, 10918\, United States
END:VEVENT
BEGIN:VEVENT
DTSTART;TZID=America/New_York:20271209T080000
DTEND;TZID=America/New_York:20271209T170000
DTSTAMP:20260421T194816
CREATED:20260127T141113Z
LAST-MODIFIED:20260202T154530Z
UID:10000391-1828339200-1828371600@thecastlefuncenter.com
SUMMARY:Burgers and Beer
DESCRIPTION:
URL:https://thecastlefuncenter.com/event/burgers-and-beer/2027-12-09/
LOCATION:The Castle Fun Center\, 109 Brookside Avenue\, Chester\, 10918\, United States
END:VEVENT
BEGIN:VEVENT
DTSTART;TZID=America/New_York:20271216T080000
DTEND;TZID=America/New_York:20271216T170000
DTSTAMP:20260421T194816
CREATED:20260127T141113Z
LAST-MODIFIED:20260202T154530Z
UID:10000392-1828944000-1828976400@thecastlefuncenter.com
SUMMARY:Burgers and Beer
DESCRIPTION:
URL:https://thecastlefuncenter.com/event/burgers-and-beer/2027-12-16/
LOCATION:The Castle Fun Center\, 109 Brookside Avenue\, Chester\, 10918\, United States
END:VEVENT
BEGIN:VEVENT
DTSTART;TZID=America/New_York:20271223T080000
DTEND;TZID=America/New_York:20271223T170000
DTSTAMP:20260421T194816
CREATED:20260127T141113Z
LAST-MODIFIED:20260202T154530Z
UID:10000393-1829548800-1829581200@thecastlefuncenter.com
SUMMARY:Burgers and Beer
DESCRIPTION:
URL:https://thecastlefuncenter.com/event/burgers-and-beer/2027-12-23/
LOCATION:The Castle Fun Center\, 109 Brookside Avenue\, Chester\, 10918\, United States
END:VEVENT
BEGIN:VEVENT
DTSTART;TZID=America/New_York:20271230T080000
DTEND;TZID=America/New_York:20271230T170000
DTSTAMP:20260421T194816
CREATED:20260127T141113Z
LAST-MODIFIED:20260202T154530Z
UID:10000394-1830153600-1830186000@thecastlefuncenter.com
SUMMARY:Burgers and Beer
DESCRIPTION:
URL:https://thecastlefuncenter.com/event/burgers-and-beer/2027-12-30/
LOCATION:The Castle Fun Center\, 109 Brookside Avenue\, Chester\, 10918\, United States
END:VEVENT
BEGIN:VEVENT
DTSTART;TZID=America/New_York:20280106T080000
DTEND;TZID=America/New_York:20280106T170000
DTSTAMP:20260421T194816
CREATED:20260127T141113Z
LAST-MODIFIED:20260202T154530Z
UID:10000395-1830758400-1830790800@thecastlefuncenter.com
SUMMARY:Burgers and Beer
DESCRIPTION:
URL:https://thecastlefuncenter.com/event/burgers-and-beer/2028-01-06/
LOCATION:The Castle Fun Center\, 109 Brookside Avenue\, Chester\, 10918\, United States
END:VEVENT
BEGIN:VEVENT
DTSTART;TZID=America/New_York:20280113T080000
DTEND;TZID=America/New_York:20280113T170000
DTSTAMP:20260421T194816
CREATED:20260127T141113Z
LAST-MODIFIED:20260202T154530Z
UID:10000396-1831363200-1831395600@thecastlefuncenter.com
SUMMARY:Burgers and Beer
DESCRIPTION:
URL:https://thecastlefuncenter.com/event/burgers-and-beer/2028-01-13/
LOCATION:The Castle Fun Center\, 109 Brookside Avenue\, Chester\, 10918\, United States
END:VEVENT
BEGIN:VEVENT
DTSTART;TZID=America/New_York:20280120T080000
DTEND;TZID=America/New_York:20280120T170000
DTSTAMP:20260421T194816
CREATED:20260127T141113Z
LAST-MODIFIED:20260202T154530Z
UID:10000397-1831968000-1832000400@thecastlefuncenter.com
SUMMARY:Burgers and Beer
DESCRIPTION:
URL:https://thecastlefuncenter.com/event/burgers-and-beer/2028-01-20/
LOCATION:The Castle Fun Center\, 109 Brookside Avenue\, Chester\, 10918\, United States
END:VEVENT
BEGIN:VEVENT
DTSTART;TZID=America/New_York:20280127T080000
DTEND;TZID=America/New_York:20280127T170000
DTSTAMP:20260421T194816
CREATED:20260127T141113Z
LAST-MODIFIED:20260202T154530Z
UID:10000398-1832572800-1832605200@thecastlefuncenter.com
SUMMARY:Burgers and Beer
DESCRIPTION:
URL:https://thecastlefuncenter.com/event/burgers-and-beer/2028-01-27/
LOCATION:The Castle Fun Center\, 109 Brookside Avenue\, Chester\, 10918\, United States
END:VEVENT
BEGIN:VEVENT
DTSTART;TZID=America/New_York:20280203T080000
DTEND;TZID=America/New_York:20280203T170000
DTSTAMP:20260421T194816
CREATED:20260127T141113Z
LAST-MODIFIED:20260202T154530Z
UID:10000399-1833177600-1833210000@thecastlefuncenter.com
SUMMARY:Burgers and Beer
DESCRIPTION:
URL:https://thecastlefuncenter.com/event/burgers-and-beer/2028-02-03/
LOCATION:The Castle Fun Center\, 109 Brookside Avenue\, Chester\, 10918\, United States
END:VEVENT
END:VCALENDAR