BEGIN:VCALENDAR
VERSION:2.0
PRODID:-//Castle Fun Center - ECPv6.15.20//NONSGML v1.0//EN
CALSCALE:GREGORIAN
METHOD:PUBLISH
X-ORIGINAL-URL:https://thecastlefuncenter.com
X-WR-CALDESC:Events for Castle Fun Center
REFRESH-INTERVAL;VALUE=DURATION:PT1H
X-Robots-Tag:noindex
X-PUBLISHED-TTL:PT1H
BEGIN:VTIMEZONE
TZID:America/New_York
BEGIN:DAYLIGHT
TZOFFSETFROM:-0500
TZOFFSETTO:-0400
TZNAME:EDT
DTSTART:20290311T070000
END:DAYLIGHT
BEGIN:STANDARD
TZOFFSETFROM:-0400
TZOFFSETTO:-0500
TZNAME:EST
DTSTART:20291104T060000
END:STANDARD
BEGIN:DAYLIGHT
TZOFFSETFROM:-0500
TZOFFSETTO:-0400
TZNAME:EDT
DTSTART:20300310T070000
END:DAYLIGHT
BEGIN:STANDARD
TZOFFSETFROM:-0400
TZOFFSETTO:-0500
TZNAME:EST
DTSTART:20301103T060000
END:STANDARD
BEGIN:DAYLIGHT
TZOFFSETFROM:-0500
TZOFFSETTO:-0400
TZNAME:EDT
DTSTART:20310309T070000
END:DAYLIGHT
BEGIN:STANDARD
TZOFFSETFROM:-0400
TZOFFSETTO:-0500
TZNAME:EST
DTSTART:20311102T060000
END:STANDARD
BEGIN:DAYLIGHT
TZOFFSETFROM:-0500
TZOFFSETTO:-0400
TZNAME:EDT
DTSTART:20320314T070000
END:DAYLIGHT
BEGIN:STANDARD
TZOFFSETFROM:-0400
TZOFFSETTO:-0500
TZNAME:EST
DTSTART:20321107T060000
END:STANDARD
END:VTIMEZONE
BEGIN:VEVENT
DTSTART;TZID=America/New_York:20300620T080000
DTEND;TZID=America/New_York:20300620T170000
DTSTAMP:20260422T174854
CREATED:20260127T141113Z
LAST-MODIFIED:20260202T154530Z
UID:10000523-1908172800-1908205200@thecastlefuncenter.com
SUMMARY:Burgers and Beer
DESCRIPTION:
URL:https://thecastlefuncenter.com/event/burgers-and-beer/2030-06-20/
LOCATION:The Castle Fun Center\, 109 Brookside Avenue\, Chester\, 10918\, United States
END:VEVENT
BEGIN:VEVENT
DTSTART;TZID=America/New_York:20300627T080000
DTEND;TZID=America/New_York:20300627T170000
DTSTAMP:20260422T174854
CREATED:20260127T141113Z
LAST-MODIFIED:20260202T154530Z
UID:10000524-1908777600-1908810000@thecastlefuncenter.com
SUMMARY:Burgers and Beer
DESCRIPTION:
URL:https://thecastlefuncenter.com/event/burgers-and-beer/2030-06-27/
LOCATION:The Castle Fun Center\, 109 Brookside Avenue\, Chester\, 10918\, United States
END:VEVENT
BEGIN:VEVENT
DTSTART;TZID=America/New_York:20300704T080000
DTEND;TZID=America/New_York:20300704T170000
DTSTAMP:20260422T174854
CREATED:20260127T141113Z
LAST-MODIFIED:20260202T154530Z
UID:10000525-1909382400-1909414800@thecastlefuncenter.com
SUMMARY:Burgers and Beer
DESCRIPTION:
URL:https://thecastlefuncenter.com/event/burgers-and-beer/2030-07-04/
LOCATION:The Castle Fun Center\, 109 Brookside Avenue\, Chester\, 10918\, United States
END:VEVENT
BEGIN:VEVENT
DTSTART;TZID=America/New_York:20300711T080000
DTEND;TZID=America/New_York:20300711T170000
DTSTAMP:20260422T174854
CREATED:20260127T141113Z
LAST-MODIFIED:20260202T154530Z
UID:10000526-1909987200-1910019600@thecastlefuncenter.com
SUMMARY:Burgers and Beer
DESCRIPTION:
URL:https://thecastlefuncenter.com/event/burgers-and-beer/2030-07-11/
LOCATION:The Castle Fun Center\, 109 Brookside Avenue\, Chester\, 10918\, United States
END:VEVENT
BEGIN:VEVENT
DTSTART;TZID=America/New_York:20300718T080000
DTEND;TZID=America/New_York:20300718T170000
DTSTAMP:20260422T174854
CREATED:20260127T141113Z
LAST-MODIFIED:20260202T154530Z
UID:10000527-1910592000-1910624400@thecastlefuncenter.com
SUMMARY:Burgers and Beer
DESCRIPTION:
URL:https://thecastlefuncenter.com/event/burgers-and-beer/2030-07-18/
LOCATION:The Castle Fun Center\, 109 Brookside Avenue\, Chester\, 10918\, United States
END:VEVENT
BEGIN:VEVENT
DTSTART;TZID=America/New_York:20300725T080000
DTEND;TZID=America/New_York:20300725T170000
DTSTAMP:20260422T174854
CREATED:20260127T141113Z
LAST-MODIFIED:20260202T154530Z
UID:10000528-1911196800-1911229200@thecastlefuncenter.com
SUMMARY:Burgers and Beer
DESCRIPTION:
URL:https://thecastlefuncenter.com/event/burgers-and-beer/2030-07-25/
LOCATION:The Castle Fun Center\, 109 Brookside Avenue\, Chester\, 10918\, United States
END:VEVENT
BEGIN:VEVENT
DTSTART;TZID=America/New_York:20300801T080000
DTEND;TZID=America/New_York:20300801T170000
DTSTAMP:20260422T174854
CREATED:20260127T141113Z
LAST-MODIFIED:20260202T154530Z
UID:10000529-1911801600-1911834000@thecastlefuncenter.com
SUMMARY:Burgers and Beer
DESCRIPTION:
URL:https://thecastlefuncenter.com/event/burgers-and-beer/2030-08-01/
LOCATION:The Castle Fun Center\, 109 Brookside Avenue\, Chester\, 10918\, United States
END:VEVENT
BEGIN:VEVENT
DTSTART;TZID=America/New_York:20300808T080000
DTEND;TZID=America/New_York:20300808T170000
DTSTAMP:20260422T174854
CREATED:20260127T141113Z
LAST-MODIFIED:20260202T154530Z
UID:10000530-1912406400-1912438800@thecastlefuncenter.com
SUMMARY:Burgers and Beer
DESCRIPTION:
URL:https://thecastlefuncenter.com/event/burgers-and-beer/2030-08-08/
LOCATION:The Castle Fun Center\, 109 Brookside Avenue\, Chester\, 10918\, United States
END:VEVENT
BEGIN:VEVENT
DTSTART;TZID=America/New_York:20300815T080000
DTEND;TZID=America/New_York:20300815T170000
DTSTAMP:20260422T174854
CREATED:20260127T141113Z
LAST-MODIFIED:20260202T154530Z
UID:10000531-1913011200-1913043600@thecastlefuncenter.com
SUMMARY:Burgers and Beer
DESCRIPTION:
URL:https://thecastlefuncenter.com/event/burgers-and-beer/2030-08-15/
LOCATION:The Castle Fun Center\, 109 Brookside Avenue\, Chester\, 10918\, United States
END:VEVENT
BEGIN:VEVENT
DTSTART;TZID=America/New_York:20300822T080000
DTEND;TZID=America/New_York:20300822T170000
DTSTAMP:20260422T174854
CREATED:20260127T141113Z
LAST-MODIFIED:20260202T154530Z
UID:10000532-1913616000-1913648400@thecastlefuncenter.com
SUMMARY:Burgers and Beer
DESCRIPTION:
URL:https://thecastlefuncenter.com/event/burgers-and-beer/2030-08-22/
LOCATION:The Castle Fun Center\, 109 Brookside Avenue\, Chester\, 10918\, United States
END:VEVENT
BEGIN:VEVENT
DTSTART;TZID=America/New_York:20300829T080000
DTEND;TZID=America/New_York:20300829T170000
DTSTAMP:20260422T174854
CREATED:20260127T141113Z
LAST-MODIFIED:20260202T154530Z
UID:10000533-1914220800-1914253200@thecastlefuncenter.com
SUMMARY:Burgers and Beer
DESCRIPTION:
URL:https://thecastlefuncenter.com/event/burgers-and-beer/2030-08-29/
LOCATION:The Castle Fun Center\, 109 Brookside Avenue\, Chester\, 10918\, United States
END:VEVENT
BEGIN:VEVENT
DTSTART;TZID=America/New_York:20300905T080000
DTEND;TZID=America/New_York:20300905T170000
DTSTAMP:20260422T174854
CREATED:20260127T141113Z
LAST-MODIFIED:20260202T154530Z
UID:10000534-1914825600-1914858000@thecastlefuncenter.com
SUMMARY:Burgers and Beer
DESCRIPTION:
URL:https://thecastlefuncenter.com/event/burgers-and-beer/2030-09-05/
LOCATION:The Castle Fun Center\, 109 Brookside Avenue\, Chester\, 10918\, United States
END:VEVENT
BEGIN:VEVENT
DTSTART;TZID=America/New_York:20300912T080000
DTEND;TZID=America/New_York:20300912T170000
DTSTAMP:20260422T174854
CREATED:20260127T141113Z
LAST-MODIFIED:20260202T154530Z
UID:10000535-1915430400-1915462800@thecastlefuncenter.com
SUMMARY:Burgers and Beer
DESCRIPTION:
URL:https://thecastlefuncenter.com/event/burgers-and-beer/2030-09-12/
LOCATION:The Castle Fun Center\, 109 Brookside Avenue\, Chester\, 10918\, United States
END:VEVENT
BEGIN:VEVENT
DTSTART;TZID=America/New_York:20300919T080000
DTEND;TZID=America/New_York:20300919T170000
DTSTAMP:20260422T174854
CREATED:20260127T141113Z
LAST-MODIFIED:20260202T154530Z
UID:10000536-1916035200-1916067600@thecastlefuncenter.com
SUMMARY:Burgers and Beer
DESCRIPTION:
URL:https://thecastlefuncenter.com/event/burgers-and-beer/2030-09-19/
LOCATION:The Castle Fun Center\, 109 Brookside Avenue\, Chester\, 10918\, United States
END:VEVENT
BEGIN:VEVENT
DTSTART;TZID=America/New_York:20300926T080000
DTEND;TZID=America/New_York:20300926T170000
DTSTAMP:20260422T174854
CREATED:20260127T141113Z
LAST-MODIFIED:20260202T154530Z
UID:10000537-1916640000-1916672400@thecastlefuncenter.com
SUMMARY:Burgers and Beer
DESCRIPTION:
URL:https://thecastlefuncenter.com/event/burgers-and-beer/2030-09-26/
LOCATION:The Castle Fun Center\, 109 Brookside Avenue\, Chester\, 10918\, United States
END:VEVENT
BEGIN:VEVENT
DTSTART;TZID=America/New_York:20301003T080000
DTEND;TZID=America/New_York:20301003T170000
DTSTAMP:20260422T174854
CREATED:20260127T141113Z
LAST-MODIFIED:20260202T154530Z
UID:10000538-1917244800-1917277200@thecastlefuncenter.com
SUMMARY:Burgers and Beer
DESCRIPTION:
URL:https://thecastlefuncenter.com/event/burgers-and-beer/2030-10-03/
LOCATION:The Castle Fun Center\, 109 Brookside Avenue\, Chester\, 10918\, United States
END:VEVENT
BEGIN:VEVENT
DTSTART;TZID=America/New_York:20301010T080000
DTEND;TZID=America/New_York:20301010T170000
DTSTAMP:20260422T174854
CREATED:20260127T141113Z
LAST-MODIFIED:20260202T154530Z
UID:10000539-1917849600-1917882000@thecastlefuncenter.com
SUMMARY:Burgers and Beer
DESCRIPTION:
URL:https://thecastlefuncenter.com/event/burgers-and-beer/2030-10-10/
LOCATION:The Castle Fun Center\, 109 Brookside Avenue\, Chester\, 10918\, United States
END:VEVENT
BEGIN:VEVENT
DTSTART;TZID=America/New_York:20301017T080000
DTEND;TZID=America/New_York:20301017T170000
DTSTAMP:20260422T174854
CREATED:20260127T141113Z
LAST-MODIFIED:20260202T154530Z
UID:10000540-1918454400-1918486800@thecastlefuncenter.com
SUMMARY:Burgers and Beer
DESCRIPTION:
URL:https://thecastlefuncenter.com/event/burgers-and-beer/2030-10-17/
LOCATION:The Castle Fun Center\, 109 Brookside Avenue\, Chester\, 10918\, United States
END:VEVENT
BEGIN:VEVENT
DTSTART;TZID=America/New_York:20301024T080000
DTEND;TZID=America/New_York:20301024T170000
DTSTAMP:20260422T174854
CREATED:20260127T141113Z
LAST-MODIFIED:20260202T154530Z
UID:10000541-1919059200-1919091600@thecastlefuncenter.com
SUMMARY:Burgers and Beer
DESCRIPTION:
URL:https://thecastlefuncenter.com/event/burgers-and-beer/2030-10-24/
LOCATION:The Castle Fun Center\, 109 Brookside Avenue\, Chester\, 10918\, United States
END:VEVENT
BEGIN:VEVENT
DTSTART;TZID=America/New_York:20301031T080000
DTEND;TZID=America/New_York:20301031T170000
DTSTAMP:20260422T174854
CREATED:20260127T141113Z
LAST-MODIFIED:20260202T154530Z
UID:10000542-1919664000-1919696400@thecastlefuncenter.com
SUMMARY:Burgers and Beer
DESCRIPTION:
URL:https://thecastlefuncenter.com/event/burgers-and-beer/2030-10-31/
LOCATION:The Castle Fun Center\, 109 Brookside Avenue\, Chester\, 10918\, United States
END:VEVENT
BEGIN:VEVENT
DTSTART;TZID=America/New_York:20301107T080000
DTEND;TZID=America/New_York:20301107T170000
DTSTAMP:20260422T174854
CREATED:20260127T141113Z
LAST-MODIFIED:20260202T154530Z
UID:10000543-1920268800-1920301200@thecastlefuncenter.com
SUMMARY:Burgers and Beer
DESCRIPTION:
URL:https://thecastlefuncenter.com/event/burgers-and-beer/2030-11-07/
LOCATION:The Castle Fun Center\, 109 Brookside Avenue\, Chester\, 10918\, United States
END:VEVENT
BEGIN:VEVENT
DTSTART;TZID=America/New_York:20301114T080000
DTEND;TZID=America/New_York:20301114T170000
DTSTAMP:20260422T174854
CREATED:20260127T141113Z
LAST-MODIFIED:20260202T154530Z
UID:10000544-1920873600-1920906000@thecastlefuncenter.com
SUMMARY:Burgers and Beer
DESCRIPTION:
URL:https://thecastlefuncenter.com/event/burgers-and-beer/2030-11-14/
LOCATION:The Castle Fun Center\, 109 Brookside Avenue\, Chester\, 10918\, United States
END:VEVENT
BEGIN:VEVENT
DTSTART;TZID=America/New_York:20301121T080000
DTEND;TZID=America/New_York:20301121T170000
DTSTAMP:20260422T174854
CREATED:20260127T141113Z
LAST-MODIFIED:20260202T154530Z
UID:10000545-1921478400-1921510800@thecastlefuncenter.com
SUMMARY:Burgers and Beer
DESCRIPTION:
URL:https://thecastlefuncenter.com/event/burgers-and-beer/2030-11-21/
LOCATION:The Castle Fun Center\, 109 Brookside Avenue\, Chester\, 10918\, United States
END:VEVENT
BEGIN:VEVENT
DTSTART;TZID=America/New_York:20301128T080000
DTEND;TZID=America/New_York:20301128T170000
DTSTAMP:20260422T174854
CREATED:20260127T141113Z
LAST-MODIFIED:20260202T154530Z
UID:10000546-1922083200-1922115600@thecastlefuncenter.com
SUMMARY:Burgers and Beer
DESCRIPTION:
URL:https://thecastlefuncenter.com/event/burgers-and-beer/2030-11-28/
LOCATION:The Castle Fun Center\, 109 Brookside Avenue\, Chester\, 10918\, United States
END:VEVENT
BEGIN:VEVENT
DTSTART;TZID=America/New_York:20301205T080000
DTEND;TZID=America/New_York:20301205T170000
DTSTAMP:20260422T174854
CREATED:20260127T141113Z
LAST-MODIFIED:20260202T154530Z
UID:10000547-1922688000-1922720400@thecastlefuncenter.com
SUMMARY:Burgers and Beer
DESCRIPTION:
URL:https://thecastlefuncenter.com/event/burgers-and-beer/2030-12-05/
LOCATION:The Castle Fun Center\, 109 Brookside Avenue\, Chester\, 10918\, United States
END:VEVENT
BEGIN:VEVENT
DTSTART;TZID=America/New_York:20301212T080000
DTEND;TZID=America/New_York:20301212T170000
DTSTAMP:20260422T174854
CREATED:20260127T141113Z
LAST-MODIFIED:20260202T154530Z
UID:10000548-1923292800-1923325200@thecastlefuncenter.com
SUMMARY:Burgers and Beer
DESCRIPTION:
URL:https://thecastlefuncenter.com/event/burgers-and-beer/2030-12-12/
LOCATION:The Castle Fun Center\, 109 Brookside Avenue\, Chester\, 10918\, United States
END:VEVENT
BEGIN:VEVENT
DTSTART;TZID=America/New_York:20301219T080000
DTEND;TZID=America/New_York:20301219T170000
DTSTAMP:20260422T174854
CREATED:20260127T141113Z
LAST-MODIFIED:20260202T154530Z
UID:10000549-1923897600-1923930000@thecastlefuncenter.com
SUMMARY:Burgers and Beer
DESCRIPTION:
URL:https://thecastlefuncenter.com/event/burgers-and-beer/2030-12-19/
LOCATION:The Castle Fun Center\, 109 Brookside Avenue\, Chester\, 10918\, United States
END:VEVENT
BEGIN:VEVENT
DTSTART;TZID=America/New_York:20301226T080000
DTEND;TZID=America/New_York:20301226T170000
DTSTAMP:20260422T174854
CREATED:20260127T141113Z
LAST-MODIFIED:20260202T154530Z
UID:10000550-1924502400-1924534800@thecastlefuncenter.com
SUMMARY:Burgers and Beer
DESCRIPTION:
URL:https://thecastlefuncenter.com/event/burgers-and-beer/2030-12-26/
LOCATION:The Castle Fun Center\, 109 Brookside Avenue\, Chester\, 10918\, United States
END:VEVENT
BEGIN:VEVENT
DTSTART;TZID=America/New_York:20310102T080000
DTEND;TZID=America/New_York:20310102T170000
DTSTAMP:20260422T174854
CREATED:20260127T141113Z
LAST-MODIFIED:20260202T154530Z
UID:10000551-1925107200-1925139600@thecastlefuncenter.com
SUMMARY:Burgers and Beer
DESCRIPTION:
URL:https://thecastlefuncenter.com/event/burgers-and-beer/2031-01-02/
LOCATION:The Castle Fun Center\, 109 Brookside Avenue\, Chester\, 10918\, United States
END:VEVENT
BEGIN:VEVENT
DTSTART;TZID=America/New_York:20310109T080000
DTEND;TZID=America/New_York:20310109T170000
DTSTAMP:20260422T174854
CREATED:20260127T141113Z
LAST-MODIFIED:20260202T154530Z
UID:10000552-1925712000-1925744400@thecastlefuncenter.com
SUMMARY:Burgers and Beer
DESCRIPTION:
URL:https://thecastlefuncenter.com/event/burgers-and-beer/2031-01-09/
LOCATION:The Castle Fun Center\, 109 Brookside Avenue\, Chester\, 10918\, United States
END:VEVENT
END:VCALENDAR