BEGIN:VCALENDAR
VERSION:2.0
PRODID:-//Castle Fun Center - ECPv6.15.20//NONSGML v1.0//EN
CALSCALE:GREGORIAN
METHOD:PUBLISH
X-ORIGINAL-URL:https://thecastlefuncenter.com
X-WR-CALDESC:Events for Castle Fun Center
REFRESH-INTERVAL;VALUE=DURATION:PT1H
X-Robots-Tag:noindex
X-PUBLISHED-TTL:PT1H
BEGIN:VTIMEZONE
TZID:America/New_York
BEGIN:DAYLIGHT
TZOFFSETFROM:-0500
TZOFFSETTO:-0400
TZNAME:EDT
DTSTART:20250309T070000
END:DAYLIGHT
BEGIN:STANDARD
TZOFFSETFROM:-0400
TZOFFSETTO:-0500
TZNAME:EST
DTSTART:20251102T060000
END:STANDARD
BEGIN:DAYLIGHT
TZOFFSETFROM:-0500
TZOFFSETTO:-0400
TZNAME:EDT
DTSTART:20260308T070000
END:DAYLIGHT
BEGIN:STANDARD
TZOFFSETFROM:-0400
TZOFFSETTO:-0500
TZNAME:EST
DTSTART:20261101T060000
END:STANDARD
BEGIN:DAYLIGHT
TZOFFSETFROM:-0500
TZOFFSETTO:-0400
TZNAME:EDT
DTSTART:20270314T070000
END:DAYLIGHT
BEGIN:STANDARD
TZOFFSETFROM:-0400
TZOFFSETTO:-0500
TZNAME:EST
DTSTART:20271107T060000
END:STANDARD
END:VTIMEZONE
BEGIN:VEVENT
DTSTART;TZID=America/New_York:20260226T080000
DTEND;TZID=America/New_York:20260226T170000
DTSTAMP:20260421T113126
CREATED:20260127T141113Z
LAST-MODIFIED:20260202T154530Z
UID:10000298-1772092800-1772125200@thecastlefuncenter.com
SUMMARY:Burgers and Beer
DESCRIPTION:
URL:https://thecastlefuncenter.com/event/burgers-and-beer/2026-02-26/
LOCATION:The Castle Fun Center\, 109 Brookside Avenue\, Chester\, 10918\, United States
END:VEVENT
BEGIN:VEVENT
DTSTART;TZID=America/New_York:20260227T190000
DTEND;TZID=America/New_York:20260227T220000
DTSTAMP:20260421T113126
CREATED:20260213T193616Z
LAST-MODIFIED:20260213T193616Z
UID:10000559-1772218800-1772229600@thecastlefuncenter.com
SUMMARY:90's +Y2K Skate Night
DESCRIPTION:
URL:https://thecastlefuncenter.com/event/90s-y2k-skate-night/
LOCATION:The Castle Fun Center\, 109 Brookside Avenue\, Chester\, 10918\, United States
END:VEVENT
BEGIN:VEVENT
DTSTART;TZID=America/New_York:20260305T080000
DTEND;TZID=America/New_York:20260305T170000
DTSTAMP:20260421T113126
CREATED:20260127T141113Z
LAST-MODIFIED:20260202T154530Z
UID:10000299-1772697600-1772730000@thecastlefuncenter.com
SUMMARY:Burgers and Beer
DESCRIPTION:
URL:https://thecastlefuncenter.com/event/burgers-and-beer/2026-03-05/
LOCATION:The Castle Fun Center\, 109 Brookside Avenue\, Chester\, 10918\, United States
END:VEVENT
BEGIN:VEVENT
DTSTART;TZID=America/New_York:20260312T080000
DTEND;TZID=America/New_York:20260312T170000
DTSTAMP:20260421T113126
CREATED:20260127T141113Z
LAST-MODIFIED:20260202T154530Z
UID:10000300-1773302400-1773334800@thecastlefuncenter.com
SUMMARY:Burgers and Beer
DESCRIPTION:
URL:https://thecastlefuncenter.com/event/burgers-and-beer/2026-03-12/
LOCATION:The Castle Fun Center\, 109 Brookside Avenue\, Chester\, 10918\, United States
END:VEVENT
BEGIN:VEVENT
DTSTART;TZID=America/New_York:20260319T080000
DTEND;TZID=America/New_York:20260319T170000
DTSTAMP:20260421T113126
CREATED:20260127T141113Z
LAST-MODIFIED:20260202T154530Z
UID:10000301-1773907200-1773939600@thecastlefuncenter.com
SUMMARY:Burgers and Beer
DESCRIPTION:
URL:https://thecastlefuncenter.com/event/burgers-and-beer/2026-03-19/
LOCATION:The Castle Fun Center\, 109 Brookside Avenue\, Chester\, 10918\, United States
END:VEVENT
BEGIN:VEVENT
DTSTART;TZID=America/New_York:20260326T080000
DTEND;TZID=America/New_York:20260326T170000
DTSTAMP:20260421T113126
CREATED:20260127T141113Z
LAST-MODIFIED:20260202T154530Z
UID:10000302-1774512000-1774544400@thecastlefuncenter.com
SUMMARY:Burgers and Beer
DESCRIPTION:
URL:https://thecastlefuncenter.com/event/burgers-and-beer/2026-03-26/
LOCATION:The Castle Fun Center\, 109 Brookside Avenue\, Chester\, 10918\, United States
END:VEVENT
BEGIN:VEVENT
DTSTART;TZID=America/New_York:20260327T190000
DTEND;TZID=America/New_York:20260327T220000
DTSTAMP:20260421T113126
CREATED:20260318T212741Z
LAST-MODIFIED:20260318T213156Z
UID:10000560-1774638000-1774648800@thecastlefuncenter.com
SUMMARY:Back to the 80's 90's Y2K
DESCRIPTION:Buy Tickets Here!
URL:https://thecastlefuncenter.com/event/back-to-the-80s-90s-y2k/
LOCATION:The Castle Fun Center\, 109 Brookside Avenue\, Chester\, 10918\, United States
END:VEVENT
BEGIN:VEVENT
DTSTART;TZID=America/New_York:20260402T080000
DTEND;TZID=America/New_York:20260402T170000
DTSTAMP:20260421T113126
CREATED:20260127T141113Z
LAST-MODIFIED:20260202T154530Z
UID:10000303-1775116800-1775149200@thecastlefuncenter.com
SUMMARY:Burgers and Beer
DESCRIPTION:
URL:https://thecastlefuncenter.com/event/burgers-and-beer/2026-04-02/
LOCATION:The Castle Fun Center\, 109 Brookside Avenue\, Chester\, 10918\, United States
END:VEVENT
BEGIN:VEVENT
DTSTART;TZID=America/New_York:20260409T080000
DTEND;TZID=America/New_York:20260409T170000
DTSTAMP:20260421T113126
CREATED:20260127T141113Z
LAST-MODIFIED:20260202T154530Z
UID:10000304-1775721600-1775754000@thecastlefuncenter.com
SUMMARY:Burgers and Beer
DESCRIPTION:
URL:https://thecastlefuncenter.com/event/burgers-and-beer/2026-04-09/
LOCATION:The Castle Fun Center\, 109 Brookside Avenue\, Chester\, 10918\, United States
END:VEVENT
BEGIN:VEVENT
DTSTART;TZID=America/New_York:20260416T080000
DTEND;TZID=America/New_York:20260416T170000
DTSTAMP:20260421T113126
CREATED:20260127T141113Z
LAST-MODIFIED:20260202T154530Z
UID:10000305-1776326400-1776358800@thecastlefuncenter.com
SUMMARY:Burgers and Beer
DESCRIPTION:
URL:https://thecastlefuncenter.com/event/burgers-and-beer/2026-04-16/
LOCATION:The Castle Fun Center\, 109 Brookside Avenue\, Chester\, 10918\, United States
END:VEVENT
BEGIN:VEVENT
DTSTART;TZID=America/New_York:20260423T080000
DTEND;TZID=America/New_York:20260423T170000
DTSTAMP:20260421T113126
CREATED:20260127T141113Z
LAST-MODIFIED:20260202T154530Z
UID:10000306-1776931200-1776963600@thecastlefuncenter.com
SUMMARY:Burgers and Beer
DESCRIPTION:
URL:https://thecastlefuncenter.com/event/burgers-and-beer/2026-04-23/
LOCATION:The Castle Fun Center\, 109 Brookside Avenue\, Chester\, 10918\, United States
END:VEVENT
BEGIN:VEVENT
DTSTART;TZID=America/New_York:20260424T210000
DTEND;TZID=America/New_York:20260425T000000
DTSTAMP:20260421T113126
CREATED:20260407T213641Z
LAST-MODIFIED:20260408T124241Z
UID:10000561-1777064400-1777075200@thecastlefuncenter.com
SUMMARY:Adult Night
DESCRIPTION:Adult Night April 24th\n \nBUY TICKETS HERE!
URL:https://thecastlefuncenter.com/event/adult-night/
LOCATION:The Castle Fun Center\, 109 Brookside Avenue\, Chester\, 10918\, United States
END:VEVENT
BEGIN:VEVENT
DTSTART;TZID=America/New_York:20260430T080000
DTEND;TZID=America/New_York:20260430T170000
DTSTAMP:20260421T113126
CREATED:20260127T141113Z
LAST-MODIFIED:20260202T154530Z
UID:10000307-1777536000-1777568400@thecastlefuncenter.com
SUMMARY:Burgers and Beer
DESCRIPTION:
URL:https://thecastlefuncenter.com/event/burgers-and-beer/2026-04-30/
LOCATION:The Castle Fun Center\, 109 Brookside Avenue\, Chester\, 10918\, United States
END:VEVENT
BEGIN:VEVENT
DTSTART;TZID=America/New_York:20260507T080000
DTEND;TZID=America/New_York:20260507T170000
DTSTAMP:20260421T113126
CREATED:20260127T141113Z
LAST-MODIFIED:20260202T154530Z
UID:10000308-1778140800-1778173200@thecastlefuncenter.com
SUMMARY:Burgers and Beer
DESCRIPTION:
URL:https://thecastlefuncenter.com/event/burgers-and-beer/2026-05-07/
LOCATION:The Castle Fun Center\, 109 Brookside Avenue\, Chester\, 10918\, United States
END:VEVENT
BEGIN:VEVENT
DTSTART;TZID=America/New_York:20260514T080000
DTEND;TZID=America/New_York:20260514T170000
DTSTAMP:20260421T113126
CREATED:20260127T141113Z
LAST-MODIFIED:20260202T154530Z
UID:10000309-1778745600-1778778000@thecastlefuncenter.com
SUMMARY:Burgers and Beer
DESCRIPTION:
URL:https://thecastlefuncenter.com/event/burgers-and-beer/2026-05-14/
LOCATION:The Castle Fun Center\, 109 Brookside Avenue\, Chester\, 10918\, United States
END:VEVENT
BEGIN:VEVENT
DTSTART;TZID=America/New_York:20260521T080000
DTEND;TZID=America/New_York:20260521T170000
DTSTAMP:20260421T113126
CREATED:20260127T141113Z
LAST-MODIFIED:20260202T154530Z
UID:10000310-1779350400-1779382800@thecastlefuncenter.com
SUMMARY:Burgers and Beer
DESCRIPTION:
URL:https://thecastlefuncenter.com/event/burgers-and-beer/2026-05-21/
LOCATION:The Castle Fun Center\, 109 Brookside Avenue\, Chester\, 10918\, United States
END:VEVENT
BEGIN:VEVENT
DTSTART;TZID=America/New_York:20260528T080000
DTEND;TZID=America/New_York:20260528T170000
DTSTAMP:20260421T113126
CREATED:20260127T141113Z
LAST-MODIFIED:20260202T154530Z
UID:10000311-1779955200-1779987600@thecastlefuncenter.com
SUMMARY:Burgers and Beer
DESCRIPTION:
URL:https://thecastlefuncenter.com/event/burgers-and-beer/2026-05-28/
LOCATION:The Castle Fun Center\, 109 Brookside Avenue\, Chester\, 10918\, United States
END:VEVENT
BEGIN:VEVENT
DTSTART;TZID=America/New_York:20260604T080000
DTEND;TZID=America/New_York:20260604T170000
DTSTAMP:20260421T113126
CREATED:20260127T141113Z
LAST-MODIFIED:20260202T154530Z
UID:10000312-1780560000-1780592400@thecastlefuncenter.com
SUMMARY:Burgers and Beer
DESCRIPTION:
URL:https://thecastlefuncenter.com/event/burgers-and-beer/2026-06-04/
LOCATION:The Castle Fun Center\, 109 Brookside Avenue\, Chester\, 10918\, United States
END:VEVENT
BEGIN:VEVENT
DTSTART;TZID=America/New_York:20260611T080000
DTEND;TZID=America/New_York:20260611T170000
DTSTAMP:20260421T113126
CREATED:20260127T141113Z
LAST-MODIFIED:20260202T154530Z
UID:10000313-1781164800-1781197200@thecastlefuncenter.com
SUMMARY:Burgers and Beer
DESCRIPTION:
URL:https://thecastlefuncenter.com/event/burgers-and-beer/2026-06-11/
LOCATION:The Castle Fun Center\, 109 Brookside Avenue\, Chester\, 10918\, United States
END:VEVENT
BEGIN:VEVENT
DTSTART;TZID=America/New_York:20260618T080000
DTEND;TZID=America/New_York:20260618T170000
DTSTAMP:20260421T113126
CREATED:20260127T141113Z
LAST-MODIFIED:20260202T154530Z
UID:10000314-1781769600-1781802000@thecastlefuncenter.com
SUMMARY:Burgers and Beer
DESCRIPTION:
URL:https://thecastlefuncenter.com/event/burgers-and-beer/2026-06-18/
LOCATION:The Castle Fun Center\, 109 Brookside Avenue\, Chester\, 10918\, United States
END:VEVENT
BEGIN:VEVENT
DTSTART;TZID=America/New_York:20260625T080000
DTEND;TZID=America/New_York:20260625T170000
DTSTAMP:20260421T113126
CREATED:20260127T141113Z
LAST-MODIFIED:20260202T154530Z
UID:10000315-1782374400-1782406800@thecastlefuncenter.com
SUMMARY:Burgers and Beer
DESCRIPTION:
URL:https://thecastlefuncenter.com/event/burgers-and-beer/2026-06-25/
LOCATION:The Castle Fun Center\, 109 Brookside Avenue\, Chester\, 10918\, United States
END:VEVENT
BEGIN:VEVENT
DTSTART;TZID=America/New_York:20260702T080000
DTEND;TZID=America/New_York:20260702T170000
DTSTAMP:20260421T113126
CREATED:20260127T141113Z
LAST-MODIFIED:20260202T154530Z
UID:10000316-1782979200-1783011600@thecastlefuncenter.com
SUMMARY:Burgers and Beer
DESCRIPTION:
URL:https://thecastlefuncenter.com/event/burgers-and-beer/2026-07-02/
LOCATION:The Castle Fun Center\, 109 Brookside Avenue\, Chester\, 10918\, United States
END:VEVENT
BEGIN:VEVENT
DTSTART;TZID=America/New_York:20260709T080000
DTEND;TZID=America/New_York:20260709T170000
DTSTAMP:20260421T113126
CREATED:20260127T141113Z
LAST-MODIFIED:20260202T154530Z
UID:10000317-1783584000-1783616400@thecastlefuncenter.com
SUMMARY:Burgers and Beer
DESCRIPTION:
URL:https://thecastlefuncenter.com/event/burgers-and-beer/2026-07-09/
LOCATION:The Castle Fun Center\, 109 Brookside Avenue\, Chester\, 10918\, United States
END:VEVENT
BEGIN:VEVENT
DTSTART;TZID=America/New_York:20260716T080000
DTEND;TZID=America/New_York:20260716T170000
DTSTAMP:20260421T113126
CREATED:20260127T141113Z
LAST-MODIFIED:20260202T154530Z
UID:10000318-1784188800-1784221200@thecastlefuncenter.com
SUMMARY:Burgers and Beer
DESCRIPTION:
URL:https://thecastlefuncenter.com/event/burgers-and-beer/2026-07-16/
LOCATION:The Castle Fun Center\, 109 Brookside Avenue\, Chester\, 10918\, United States
END:VEVENT
BEGIN:VEVENT
DTSTART;TZID=America/New_York:20260723T080000
DTEND;TZID=America/New_York:20260723T170000
DTSTAMP:20260421T113126
CREATED:20260127T141113Z
LAST-MODIFIED:20260202T154530Z
UID:10000319-1784793600-1784826000@thecastlefuncenter.com
SUMMARY:Burgers and Beer
DESCRIPTION:
URL:https://thecastlefuncenter.com/event/burgers-and-beer/2026-07-23/
LOCATION:The Castle Fun Center\, 109 Brookside Avenue\, Chester\, 10918\, United States
END:VEVENT
BEGIN:VEVENT
DTSTART;TZID=America/New_York:20260730T080000
DTEND;TZID=America/New_York:20260730T170000
DTSTAMP:20260421T113126
CREATED:20260127T141113Z
LAST-MODIFIED:20260202T154530Z
UID:10000320-1785398400-1785430800@thecastlefuncenter.com
SUMMARY:Burgers and Beer
DESCRIPTION:
URL:https://thecastlefuncenter.com/event/burgers-and-beer/2026-07-30/
LOCATION:The Castle Fun Center\, 109 Brookside Avenue\, Chester\, 10918\, United States
END:VEVENT
BEGIN:VEVENT
DTSTART;TZID=America/New_York:20260806T080000
DTEND;TZID=America/New_York:20260806T170000
DTSTAMP:20260421T113126
CREATED:20260127T141113Z
LAST-MODIFIED:20260202T154530Z
UID:10000321-1786003200-1786035600@thecastlefuncenter.com
SUMMARY:Burgers and Beer
DESCRIPTION:
URL:https://thecastlefuncenter.com/event/burgers-and-beer/2026-08-06/
LOCATION:The Castle Fun Center\, 109 Brookside Avenue\, Chester\, 10918\, United States
END:VEVENT
BEGIN:VEVENT
DTSTART;TZID=America/New_York:20260813T080000
DTEND;TZID=America/New_York:20260813T170000
DTSTAMP:20260421T113126
CREATED:20260127T141113Z
LAST-MODIFIED:20260202T154530Z
UID:10000322-1786608000-1786640400@thecastlefuncenter.com
SUMMARY:Burgers and Beer
DESCRIPTION:
URL:https://thecastlefuncenter.com/event/burgers-and-beer/2026-08-13/
LOCATION:The Castle Fun Center\, 109 Brookside Avenue\, Chester\, 10918\, United States
END:VEVENT
BEGIN:VEVENT
DTSTART;TZID=America/New_York:20260820T080000
DTEND;TZID=America/New_York:20260820T170000
DTSTAMP:20260421T113126
CREATED:20260127T141113Z
LAST-MODIFIED:20260202T154530Z
UID:10000323-1787212800-1787245200@thecastlefuncenter.com
SUMMARY:Burgers and Beer
DESCRIPTION:
URL:https://thecastlefuncenter.com/event/burgers-and-beer/2026-08-20/
LOCATION:The Castle Fun Center\, 109 Brookside Avenue\, Chester\, 10918\, United States
END:VEVENT
BEGIN:VEVENT
DTSTART;TZID=America/New_York:20260827T080000
DTEND;TZID=America/New_York:20260827T170000
DTSTAMP:20260421T113126
CREATED:20260127T141113Z
LAST-MODIFIED:20260202T154530Z
UID:10000324-1787817600-1787850000@thecastlefuncenter.com
SUMMARY:Burgers and Beer
DESCRIPTION:
URL:https://thecastlefuncenter.com/event/burgers-and-beer/2026-08-27/
LOCATION:The Castle Fun Center\, 109 Brookside Avenue\, Chester\, 10918\, United States
END:VEVENT
END:VCALENDAR