BEGIN:VCALENDAR
VERSION:2.0
PRODID:-//Castle Fun Center - ECPv6.15.20//NONSGML v1.0//EN
CALSCALE:GREGORIAN
METHOD:PUBLISH
X-WR-CALNAME:Castle Fun Center
X-ORIGINAL-URL:https://thecastlefuncenter.com
X-WR-CALDESC:Events for Castle Fun Center
REFRESH-INTERVAL;VALUE=DURATION:PT1H
X-Robots-Tag:noindex
X-PUBLISHED-TTL:PT1H
BEGIN:VTIMEZONE
TZID:America/New_York
BEGIN:DAYLIGHT
TZOFFSETFROM:-0500
TZOFFSETTO:-0400
TZNAME:EDT
DTSTART:20280312T070000
END:DAYLIGHT
BEGIN:STANDARD
TZOFFSETFROM:-0400
TZOFFSETTO:-0500
TZNAME:EST
DTSTART:20281105T060000
END:STANDARD
BEGIN:DAYLIGHT
TZOFFSETFROM:-0500
TZOFFSETTO:-0400
TZNAME:EDT
DTSTART:20290311T070000
END:DAYLIGHT
BEGIN:STANDARD
TZOFFSETFROM:-0400
TZOFFSETTO:-0500
TZNAME:EST
DTSTART:20291104T060000
END:STANDARD
BEGIN:DAYLIGHT
TZOFFSETFROM:-0500
TZOFFSETTO:-0400
TZNAME:EDT
DTSTART:20300310T070000
END:DAYLIGHT
BEGIN:STANDARD
TZOFFSETFROM:-0400
TZOFFSETTO:-0500
TZNAME:EST
DTSTART:20301103T060000
END:STANDARD
BEGIN:DAYLIGHT
TZOFFSETFROM:-0500
TZOFFSETTO:-0400
TZNAME:EDT
DTSTART:20310309T070000
END:DAYLIGHT
BEGIN:STANDARD
TZOFFSETFROM:-0400
TZOFFSETTO:-0500
TZNAME:EST
DTSTART:20311102T060000
END:STANDARD
END:VTIMEZONE
BEGIN:VEVENT
DTSTART;TZID=America/New_York:20291213T080000
DTEND;TZID=America/New_York:20291213T170000
DTSTAMP:20260422T234426
CREATED:20260127T141113Z
LAST-MODIFIED:20260202T154530Z
UID:10000496-1891843200-1891875600@thecastlefuncenter.com
SUMMARY:Burgers and Beer
DESCRIPTION:
URL:https://thecastlefuncenter.com/event/burgers-and-beer/2029-12-13/
LOCATION:The Castle Fun Center\, 109 Brookside Avenue\, Chester\, 10918\, United States
END:VEVENT
BEGIN:VEVENT
DTSTART;TZID=America/New_York:20291220T080000
DTEND;TZID=America/New_York:20291220T170000
DTSTAMP:20260422T234426
CREATED:20260127T141113Z
LAST-MODIFIED:20260202T154530Z
UID:10000497-1892448000-1892480400@thecastlefuncenter.com
SUMMARY:Burgers and Beer
DESCRIPTION:
URL:https://thecastlefuncenter.com/event/burgers-and-beer/2029-12-20/
LOCATION:The Castle Fun Center\, 109 Brookside Avenue\, Chester\, 10918\, United States
END:VEVENT
BEGIN:VEVENT
DTSTART;TZID=America/New_York:20291227T080000
DTEND;TZID=America/New_York:20291227T170000
DTSTAMP:20260422T234426
CREATED:20260127T141113Z
LAST-MODIFIED:20260202T154530Z
UID:10000498-1893052800-1893085200@thecastlefuncenter.com
SUMMARY:Burgers and Beer
DESCRIPTION:
URL:https://thecastlefuncenter.com/event/burgers-and-beer/2029-12-27/
LOCATION:The Castle Fun Center\, 109 Brookside Avenue\, Chester\, 10918\, United States
END:VEVENT
BEGIN:VEVENT
DTSTART;TZID=America/New_York:20300103T080000
DTEND;TZID=America/New_York:20300103T170000
DTSTAMP:20260422T234426
CREATED:20260127T141113Z
LAST-MODIFIED:20260202T154530Z
UID:10000499-1893657600-1893690000@thecastlefuncenter.com
SUMMARY:Burgers and Beer
DESCRIPTION:
URL:https://thecastlefuncenter.com/event/burgers-and-beer/2030-01-03/
LOCATION:The Castle Fun Center\, 109 Brookside Avenue\, Chester\, 10918\, United States
END:VEVENT
BEGIN:VEVENT
DTSTART;TZID=America/New_York:20300110T080000
DTEND;TZID=America/New_York:20300110T170000
DTSTAMP:20260422T234426
CREATED:20260127T141113Z
LAST-MODIFIED:20260202T154530Z
UID:10000500-1894262400-1894294800@thecastlefuncenter.com
SUMMARY:Burgers and Beer
DESCRIPTION:
URL:https://thecastlefuncenter.com/event/burgers-and-beer/2030-01-10/
LOCATION:The Castle Fun Center\, 109 Brookside Avenue\, Chester\, 10918\, United States
END:VEVENT
BEGIN:VEVENT
DTSTART;TZID=America/New_York:20300117T080000
DTEND;TZID=America/New_York:20300117T170000
DTSTAMP:20260422T234426
CREATED:20260127T141113Z
LAST-MODIFIED:20260202T154530Z
UID:10000501-1894867200-1894899600@thecastlefuncenter.com
SUMMARY:Burgers and Beer
DESCRIPTION:
URL:https://thecastlefuncenter.com/event/burgers-and-beer/2030-01-17/
LOCATION:The Castle Fun Center\, 109 Brookside Avenue\, Chester\, 10918\, United States
END:VEVENT
BEGIN:VEVENT
DTSTART;TZID=America/New_York:20300124T080000
DTEND;TZID=America/New_York:20300124T170000
DTSTAMP:20260422T234426
CREATED:20260127T141113Z
LAST-MODIFIED:20260202T154530Z
UID:10000502-1895472000-1895504400@thecastlefuncenter.com
SUMMARY:Burgers and Beer
DESCRIPTION:
URL:https://thecastlefuncenter.com/event/burgers-and-beer/2030-01-24/
LOCATION:The Castle Fun Center\, 109 Brookside Avenue\, Chester\, 10918\, United States
END:VEVENT
BEGIN:VEVENT
DTSTART;TZID=America/New_York:20300131T080000
DTEND;TZID=America/New_York:20300131T170000
DTSTAMP:20260422T234426
CREATED:20260127T141113Z
LAST-MODIFIED:20260202T154530Z
UID:10000503-1896076800-1896109200@thecastlefuncenter.com
SUMMARY:Burgers and Beer
DESCRIPTION:
URL:https://thecastlefuncenter.com/event/burgers-and-beer/2030-01-31/
LOCATION:The Castle Fun Center\, 109 Brookside Avenue\, Chester\, 10918\, United States
END:VEVENT
BEGIN:VEVENT
DTSTART;TZID=America/New_York:20300207T080000
DTEND;TZID=America/New_York:20300207T170000
DTSTAMP:20260422T234426
CREATED:20260127T141113Z
LAST-MODIFIED:20260202T154530Z
UID:10000504-1896681600-1896714000@thecastlefuncenter.com
SUMMARY:Burgers and Beer
DESCRIPTION:
URL:https://thecastlefuncenter.com/event/burgers-and-beer/2030-02-07/
LOCATION:The Castle Fun Center\, 109 Brookside Avenue\, Chester\, 10918\, United States
END:VEVENT
BEGIN:VEVENT
DTSTART;TZID=America/New_York:20300214T080000
DTEND;TZID=America/New_York:20300214T170000
DTSTAMP:20260422T234426
CREATED:20260127T141113Z
LAST-MODIFIED:20260202T154530Z
UID:10000505-1897286400-1897318800@thecastlefuncenter.com
SUMMARY:Burgers and Beer
DESCRIPTION:
URL:https://thecastlefuncenter.com/event/burgers-and-beer/2030-02-14/
LOCATION:The Castle Fun Center\, 109 Brookside Avenue\, Chester\, 10918\, United States
END:VEVENT
BEGIN:VEVENT
DTSTART;TZID=America/New_York:20300221T080000
DTEND;TZID=America/New_York:20300221T170000
DTSTAMP:20260422T234426
CREATED:20260127T141113Z
LAST-MODIFIED:20260202T154530Z
UID:10000506-1897891200-1897923600@thecastlefuncenter.com
SUMMARY:Burgers and Beer
DESCRIPTION:
URL:https://thecastlefuncenter.com/event/burgers-and-beer/2030-02-21/
LOCATION:The Castle Fun Center\, 109 Brookside Avenue\, Chester\, 10918\, United States
END:VEVENT
BEGIN:VEVENT
DTSTART;TZID=America/New_York:20300228T080000
DTEND;TZID=America/New_York:20300228T170000
DTSTAMP:20260422T234426
CREATED:20260127T141113Z
LAST-MODIFIED:20260202T154530Z
UID:10000507-1898496000-1898528400@thecastlefuncenter.com
SUMMARY:Burgers and Beer
DESCRIPTION:
URL:https://thecastlefuncenter.com/event/burgers-and-beer/2030-02-28/
LOCATION:The Castle Fun Center\, 109 Brookside Avenue\, Chester\, 10918\, United States
END:VEVENT
BEGIN:VEVENT
DTSTART;TZID=America/New_York:20300307T080000
DTEND;TZID=America/New_York:20300307T170000
DTSTAMP:20260422T234426
CREATED:20260127T141113Z
LAST-MODIFIED:20260202T154530Z
UID:10000508-1899100800-1899133200@thecastlefuncenter.com
SUMMARY:Burgers and Beer
DESCRIPTION:
URL:https://thecastlefuncenter.com/event/burgers-and-beer/2030-03-07/
LOCATION:The Castle Fun Center\, 109 Brookside Avenue\, Chester\, 10918\, United States
END:VEVENT
BEGIN:VEVENT
DTSTART;TZID=America/New_York:20300314T080000
DTEND;TZID=America/New_York:20300314T170000
DTSTAMP:20260422T234426
CREATED:20260127T141113Z
LAST-MODIFIED:20260202T154530Z
UID:10000509-1899705600-1899738000@thecastlefuncenter.com
SUMMARY:Burgers and Beer
DESCRIPTION:
URL:https://thecastlefuncenter.com/event/burgers-and-beer/2030-03-14/
LOCATION:The Castle Fun Center\, 109 Brookside Avenue\, Chester\, 10918\, United States
END:VEVENT
BEGIN:VEVENT
DTSTART;TZID=America/New_York:20300321T080000
DTEND;TZID=America/New_York:20300321T170000
DTSTAMP:20260422T234426
CREATED:20260127T141113Z
LAST-MODIFIED:20260202T154530Z
UID:10000510-1900310400-1900342800@thecastlefuncenter.com
SUMMARY:Burgers and Beer
DESCRIPTION:
URL:https://thecastlefuncenter.com/event/burgers-and-beer/2030-03-21/
LOCATION:The Castle Fun Center\, 109 Brookside Avenue\, Chester\, 10918\, United States
END:VEVENT
BEGIN:VEVENT
DTSTART;TZID=America/New_York:20300328T080000
DTEND;TZID=America/New_York:20300328T170000
DTSTAMP:20260422T234426
CREATED:20260127T141113Z
LAST-MODIFIED:20260202T154530Z
UID:10000511-1900915200-1900947600@thecastlefuncenter.com
SUMMARY:Burgers and Beer
DESCRIPTION:
URL:https://thecastlefuncenter.com/event/burgers-and-beer/2030-03-28/
LOCATION:The Castle Fun Center\, 109 Brookside Avenue\, Chester\, 10918\, United States
END:VEVENT
BEGIN:VEVENT
DTSTART;TZID=America/New_York:20300404T080000
DTEND;TZID=America/New_York:20300404T170000
DTSTAMP:20260422T234426
CREATED:20260127T141113Z
LAST-MODIFIED:20260202T154530Z
UID:10000512-1901520000-1901552400@thecastlefuncenter.com
SUMMARY:Burgers and Beer
DESCRIPTION:
URL:https://thecastlefuncenter.com/event/burgers-and-beer/2030-04-04/
LOCATION:The Castle Fun Center\, 109 Brookside Avenue\, Chester\, 10918\, United States
END:VEVENT
BEGIN:VEVENT
DTSTART;TZID=America/New_York:20300411T080000
DTEND;TZID=America/New_York:20300411T170000
DTSTAMP:20260422T234426
CREATED:20260127T141113Z
LAST-MODIFIED:20260202T154530Z
UID:10000513-1902124800-1902157200@thecastlefuncenter.com
SUMMARY:Burgers and Beer
DESCRIPTION:
URL:https://thecastlefuncenter.com/event/burgers-and-beer/2030-04-11/
LOCATION:The Castle Fun Center\, 109 Brookside Avenue\, Chester\, 10918\, United States
END:VEVENT
BEGIN:VEVENT
DTSTART;TZID=America/New_York:20300418T080000
DTEND;TZID=America/New_York:20300418T170000
DTSTAMP:20260422T234426
CREATED:20260127T141113Z
LAST-MODIFIED:20260202T154530Z
UID:10000514-1902729600-1902762000@thecastlefuncenter.com
SUMMARY:Burgers and Beer
DESCRIPTION:
URL:https://thecastlefuncenter.com/event/burgers-and-beer/2030-04-18/
LOCATION:The Castle Fun Center\, 109 Brookside Avenue\, Chester\, 10918\, United States
END:VEVENT
BEGIN:VEVENT
DTSTART;TZID=America/New_York:20300425T080000
DTEND;TZID=America/New_York:20300425T170000
DTSTAMP:20260422T234426
CREATED:20260127T141113Z
LAST-MODIFIED:20260202T154530Z
UID:10000515-1903334400-1903366800@thecastlefuncenter.com
SUMMARY:Burgers and Beer
DESCRIPTION:
URL:https://thecastlefuncenter.com/event/burgers-and-beer/2030-04-25/
LOCATION:The Castle Fun Center\, 109 Brookside Avenue\, Chester\, 10918\, United States
END:VEVENT
BEGIN:VEVENT
DTSTART;TZID=America/New_York:20300502T080000
DTEND;TZID=America/New_York:20300502T170000
DTSTAMP:20260422T234426
CREATED:20260127T141113Z
LAST-MODIFIED:20260202T154530Z
UID:10000516-1903939200-1903971600@thecastlefuncenter.com
SUMMARY:Burgers and Beer
DESCRIPTION:
URL:https://thecastlefuncenter.com/event/burgers-and-beer/2030-05-02/
LOCATION:The Castle Fun Center\, 109 Brookside Avenue\, Chester\, 10918\, United States
END:VEVENT
BEGIN:VEVENT
DTSTART;TZID=America/New_York:20300509T080000
DTEND;TZID=America/New_York:20300509T170000
DTSTAMP:20260422T234426
CREATED:20260127T141113Z
LAST-MODIFIED:20260202T154530Z
UID:10000517-1904544000-1904576400@thecastlefuncenter.com
SUMMARY:Burgers and Beer
DESCRIPTION:
URL:https://thecastlefuncenter.com/event/burgers-and-beer/2030-05-09/
LOCATION:The Castle Fun Center\, 109 Brookside Avenue\, Chester\, 10918\, United States
END:VEVENT
BEGIN:VEVENT
DTSTART;TZID=America/New_York:20300516T080000
DTEND;TZID=America/New_York:20300516T170000
DTSTAMP:20260422T234426
CREATED:20260127T141113Z
LAST-MODIFIED:20260202T154530Z
UID:10000518-1905148800-1905181200@thecastlefuncenter.com
SUMMARY:Burgers and Beer
DESCRIPTION:
URL:https://thecastlefuncenter.com/event/burgers-and-beer/2030-05-16/
LOCATION:The Castle Fun Center\, 109 Brookside Avenue\, Chester\, 10918\, United States
END:VEVENT
BEGIN:VEVENT
DTSTART;TZID=America/New_York:20300523T080000
DTEND;TZID=America/New_York:20300523T170000
DTSTAMP:20260422T234426
CREATED:20260127T141113Z
LAST-MODIFIED:20260202T154530Z
UID:10000519-1905753600-1905786000@thecastlefuncenter.com
SUMMARY:Burgers and Beer
DESCRIPTION:
URL:https://thecastlefuncenter.com/event/burgers-and-beer/2030-05-23/
LOCATION:The Castle Fun Center\, 109 Brookside Avenue\, Chester\, 10918\, United States
END:VEVENT
BEGIN:VEVENT
DTSTART;TZID=America/New_York:20300530T080000
DTEND;TZID=America/New_York:20300530T170000
DTSTAMP:20260422T234426
CREATED:20260127T141113Z
LAST-MODIFIED:20260202T154530Z
UID:10000520-1906358400-1906390800@thecastlefuncenter.com
SUMMARY:Burgers and Beer
DESCRIPTION:
URL:https://thecastlefuncenter.com/event/burgers-and-beer/2030-05-30/
LOCATION:The Castle Fun Center\, 109 Brookside Avenue\, Chester\, 10918\, United States
END:VEVENT
BEGIN:VEVENT
DTSTART;TZID=America/New_York:20300606T080000
DTEND;TZID=America/New_York:20300606T170000
DTSTAMP:20260422T234426
CREATED:20260127T141113Z
LAST-MODIFIED:20260202T154530Z
UID:10000521-1906963200-1906995600@thecastlefuncenter.com
SUMMARY:Burgers and Beer
DESCRIPTION:
URL:https://thecastlefuncenter.com/event/burgers-and-beer/2030-06-06/
LOCATION:The Castle Fun Center\, 109 Brookside Avenue\, Chester\, 10918\, United States
END:VEVENT
BEGIN:VEVENT
DTSTART;TZID=America/New_York:20300613T080000
DTEND;TZID=America/New_York:20300613T170000
DTSTAMP:20260422T234426
CREATED:20260127T141113Z
LAST-MODIFIED:20260202T154530Z
UID:10000522-1907568000-1907600400@thecastlefuncenter.com
SUMMARY:Burgers and Beer
DESCRIPTION:
URL:https://thecastlefuncenter.com/event/burgers-and-beer/2030-06-13/
LOCATION:The Castle Fun Center\, 109 Brookside Avenue\, Chester\, 10918\, United States
END:VEVENT
BEGIN:VEVENT
DTSTART;TZID=America/New_York:20300620T080000
DTEND;TZID=America/New_York:20300620T170000
DTSTAMP:20260422T234426
CREATED:20260127T141113Z
LAST-MODIFIED:20260202T154530Z
UID:10000523-1908172800-1908205200@thecastlefuncenter.com
SUMMARY:Burgers and Beer
DESCRIPTION:
URL:https://thecastlefuncenter.com/event/burgers-and-beer/2030-06-20/
LOCATION:The Castle Fun Center\, 109 Brookside Avenue\, Chester\, 10918\, United States
END:VEVENT
BEGIN:VEVENT
DTSTART;TZID=America/New_York:20300627T080000
DTEND;TZID=America/New_York:20300627T170000
DTSTAMP:20260422T234426
CREATED:20260127T141113Z
LAST-MODIFIED:20260202T154530Z
UID:10000524-1908777600-1908810000@thecastlefuncenter.com
SUMMARY:Burgers and Beer
DESCRIPTION:
URL:https://thecastlefuncenter.com/event/burgers-and-beer/2030-06-27/
LOCATION:The Castle Fun Center\, 109 Brookside Avenue\, Chester\, 10918\, United States
END:VEVENT
BEGIN:VEVENT
DTSTART;TZID=America/New_York:20300704T080000
DTEND;TZID=America/New_York:20300704T170000
DTSTAMP:20260422T234426
CREATED:20260127T141113Z
LAST-MODIFIED:20260202T154530Z
UID:10000525-1909382400-1909414800@thecastlefuncenter.com
SUMMARY:Burgers and Beer
DESCRIPTION:
URL:https://thecastlefuncenter.com/event/burgers-and-beer/2030-07-04/
LOCATION:The Castle Fun Center\, 109 Brookside Avenue\, Chester\, 10918\, United States
END:VEVENT
END:VCALENDAR