BEGIN:VCALENDAR
VERSION:2.0
PRODID:-//Castle Fun Center - ECPv6.15.20//NONSGML v1.0//EN
CALSCALE:GREGORIAN
METHOD:PUBLISH
X-WR-CALNAME:Castle Fun Center
X-ORIGINAL-URL:https://thecastlefuncenter.com
X-WR-CALDESC:Events for Castle Fun Center
REFRESH-INTERVAL;VALUE=DURATION:PT1H
X-Robots-Tag:noindex
X-PUBLISHED-TTL:PT1H
BEGIN:VTIMEZONE
TZID:America/New_York
BEGIN:DAYLIGHT
TZOFFSETFROM:-0500
TZOFFSETTO:-0400
TZNAME:EDT
DTSTART:20270314T070000
END:DAYLIGHT
BEGIN:STANDARD
TZOFFSETFROM:-0400
TZOFFSETTO:-0500
TZNAME:EST
DTSTART:20271107T060000
END:STANDARD
BEGIN:DAYLIGHT
TZOFFSETFROM:-0500
TZOFFSETTO:-0400
TZNAME:EDT
DTSTART:20280312T070000
END:DAYLIGHT
BEGIN:STANDARD
TZOFFSETFROM:-0400
TZOFFSETTO:-0500
TZNAME:EST
DTSTART:20281105T060000
END:STANDARD
BEGIN:DAYLIGHT
TZOFFSETFROM:-0500
TZOFFSETTO:-0400
TZNAME:EDT
DTSTART:20290311T070000
END:DAYLIGHT
BEGIN:STANDARD
TZOFFSETFROM:-0400
TZOFFSETTO:-0500
TZNAME:EST
DTSTART:20291104T060000
END:STANDARD
END:VTIMEZONE
BEGIN:VEVENT
DTSTART;TZID=America/New_York:20280302T080000
DTEND;TZID=America/New_York:20280302T170000
DTSTAMP:20260422T024519
CREATED:20260127T141113Z
LAST-MODIFIED:20260202T154530Z
UID:10000403-1835596800-1835629200@thecastlefuncenter.com
SUMMARY:Burgers and Beer
DESCRIPTION:
URL:https://thecastlefuncenter.com/event/burgers-and-beer/2028-03-02/
LOCATION:The Castle Fun Center\, 109 Brookside Avenue\, Chester\, 10918\, United States
END:VEVENT
BEGIN:VEVENT
DTSTART;TZID=America/New_York:20280309T080000
DTEND;TZID=America/New_York:20280309T170000
DTSTAMP:20260422T024519
CREATED:20260127T141113Z
LAST-MODIFIED:20260202T154530Z
UID:10000404-1836201600-1836234000@thecastlefuncenter.com
SUMMARY:Burgers and Beer
DESCRIPTION:
URL:https://thecastlefuncenter.com/event/burgers-and-beer/2028-03-09/
LOCATION:The Castle Fun Center\, 109 Brookside Avenue\, Chester\, 10918\, United States
END:VEVENT
BEGIN:VEVENT
DTSTART;TZID=America/New_York:20280316T080000
DTEND;TZID=America/New_York:20280316T170000
DTSTAMP:20260422T024519
CREATED:20260127T141113Z
LAST-MODIFIED:20260202T154530Z
UID:10000405-1836806400-1836838800@thecastlefuncenter.com
SUMMARY:Burgers and Beer
DESCRIPTION:
URL:https://thecastlefuncenter.com/event/burgers-and-beer/2028-03-16/
LOCATION:The Castle Fun Center\, 109 Brookside Avenue\, Chester\, 10918\, United States
END:VEVENT
BEGIN:VEVENT
DTSTART;TZID=America/New_York:20280323T080000
DTEND;TZID=America/New_York:20280323T170000
DTSTAMP:20260422T024519
CREATED:20260127T141113Z
LAST-MODIFIED:20260202T154530Z
UID:10000406-1837411200-1837443600@thecastlefuncenter.com
SUMMARY:Burgers and Beer
DESCRIPTION:
URL:https://thecastlefuncenter.com/event/burgers-and-beer/2028-03-23/
LOCATION:The Castle Fun Center\, 109 Brookside Avenue\, Chester\, 10918\, United States
END:VEVENT
BEGIN:VEVENT
DTSTART;TZID=America/New_York:20280330T080000
DTEND;TZID=America/New_York:20280330T170000
DTSTAMP:20260422T024519
CREATED:20260127T141113Z
LAST-MODIFIED:20260202T154530Z
UID:10000407-1838016000-1838048400@thecastlefuncenter.com
SUMMARY:Burgers and Beer
DESCRIPTION:
URL:https://thecastlefuncenter.com/event/burgers-and-beer/2028-03-30/
LOCATION:The Castle Fun Center\, 109 Brookside Avenue\, Chester\, 10918\, United States
END:VEVENT
BEGIN:VEVENT
DTSTART;TZID=America/New_York:20280406T080000
DTEND;TZID=America/New_York:20280406T170000
DTSTAMP:20260422T024519
CREATED:20260127T141113Z
LAST-MODIFIED:20260202T154530Z
UID:10000408-1838620800-1838653200@thecastlefuncenter.com
SUMMARY:Burgers and Beer
DESCRIPTION:
URL:https://thecastlefuncenter.com/event/burgers-and-beer/2028-04-06/
LOCATION:The Castle Fun Center\, 109 Brookside Avenue\, Chester\, 10918\, United States
END:VEVENT
BEGIN:VEVENT
DTSTART;TZID=America/New_York:20280413T080000
DTEND;TZID=America/New_York:20280413T170000
DTSTAMP:20260422T024519
CREATED:20260127T141113Z
LAST-MODIFIED:20260202T154530Z
UID:10000409-1839225600-1839258000@thecastlefuncenter.com
SUMMARY:Burgers and Beer
DESCRIPTION:
URL:https://thecastlefuncenter.com/event/burgers-and-beer/2028-04-13/
LOCATION:The Castle Fun Center\, 109 Brookside Avenue\, Chester\, 10918\, United States
END:VEVENT
BEGIN:VEVENT
DTSTART;TZID=America/New_York:20280420T080000
DTEND;TZID=America/New_York:20280420T170000
DTSTAMP:20260422T024519
CREATED:20260127T141113Z
LAST-MODIFIED:20260202T154530Z
UID:10000410-1839830400-1839862800@thecastlefuncenter.com
SUMMARY:Burgers and Beer
DESCRIPTION:
URL:https://thecastlefuncenter.com/event/burgers-and-beer/2028-04-20/
LOCATION:The Castle Fun Center\, 109 Brookside Avenue\, Chester\, 10918\, United States
END:VEVENT
BEGIN:VEVENT
DTSTART;TZID=America/New_York:20280427T080000
DTEND;TZID=America/New_York:20280427T170000
DTSTAMP:20260422T024519
CREATED:20260127T141113Z
LAST-MODIFIED:20260202T154530Z
UID:10000411-1840435200-1840467600@thecastlefuncenter.com
SUMMARY:Burgers and Beer
DESCRIPTION:
URL:https://thecastlefuncenter.com/event/burgers-and-beer/2028-04-27/
LOCATION:The Castle Fun Center\, 109 Brookside Avenue\, Chester\, 10918\, United States
END:VEVENT
BEGIN:VEVENT
DTSTART;TZID=America/New_York:20280504T080000
DTEND;TZID=America/New_York:20280504T170000
DTSTAMP:20260422T024519
CREATED:20260127T141113Z
LAST-MODIFIED:20260202T154530Z
UID:10000412-1841040000-1841072400@thecastlefuncenter.com
SUMMARY:Burgers and Beer
DESCRIPTION:
URL:https://thecastlefuncenter.com/event/burgers-and-beer/2028-05-04/
LOCATION:The Castle Fun Center\, 109 Brookside Avenue\, Chester\, 10918\, United States
END:VEVENT
BEGIN:VEVENT
DTSTART;TZID=America/New_York:20280511T080000
DTEND;TZID=America/New_York:20280511T170000
DTSTAMP:20260422T024519
CREATED:20260127T141113Z
LAST-MODIFIED:20260202T154530Z
UID:10000413-1841644800-1841677200@thecastlefuncenter.com
SUMMARY:Burgers and Beer
DESCRIPTION:
URL:https://thecastlefuncenter.com/event/burgers-and-beer/2028-05-11/
LOCATION:The Castle Fun Center\, 109 Brookside Avenue\, Chester\, 10918\, United States
END:VEVENT
BEGIN:VEVENT
DTSTART;TZID=America/New_York:20280518T080000
DTEND;TZID=America/New_York:20280518T170000
DTSTAMP:20260422T024519
CREATED:20260127T141113Z
LAST-MODIFIED:20260202T154530Z
UID:10000414-1842249600-1842282000@thecastlefuncenter.com
SUMMARY:Burgers and Beer
DESCRIPTION:
URL:https://thecastlefuncenter.com/event/burgers-and-beer/2028-05-18/
LOCATION:The Castle Fun Center\, 109 Brookside Avenue\, Chester\, 10918\, United States
END:VEVENT
BEGIN:VEVENT
DTSTART;TZID=America/New_York:20280525T080000
DTEND;TZID=America/New_York:20280525T170000
DTSTAMP:20260422T024519
CREATED:20260127T141113Z
LAST-MODIFIED:20260202T154530Z
UID:10000415-1842854400-1842886800@thecastlefuncenter.com
SUMMARY:Burgers and Beer
DESCRIPTION:
URL:https://thecastlefuncenter.com/event/burgers-and-beer/2028-05-25/
LOCATION:The Castle Fun Center\, 109 Brookside Avenue\, Chester\, 10918\, United States
END:VEVENT
BEGIN:VEVENT
DTSTART;TZID=America/New_York:20280601T080000
DTEND;TZID=America/New_York:20280601T170000
DTSTAMP:20260422T024519
CREATED:20260127T141113Z
LAST-MODIFIED:20260202T154530Z
UID:10000416-1843459200-1843491600@thecastlefuncenter.com
SUMMARY:Burgers and Beer
DESCRIPTION:
URL:https://thecastlefuncenter.com/event/burgers-and-beer/2028-06-01/
LOCATION:The Castle Fun Center\, 109 Brookside Avenue\, Chester\, 10918\, United States
END:VEVENT
BEGIN:VEVENT
DTSTART;TZID=America/New_York:20280608T080000
DTEND;TZID=America/New_York:20280608T170000
DTSTAMP:20260422T024519
CREATED:20260127T141113Z
LAST-MODIFIED:20260202T154530Z
UID:10000417-1844064000-1844096400@thecastlefuncenter.com
SUMMARY:Burgers and Beer
DESCRIPTION:
URL:https://thecastlefuncenter.com/event/burgers-and-beer/2028-06-08/
LOCATION:The Castle Fun Center\, 109 Brookside Avenue\, Chester\, 10918\, United States
END:VEVENT
BEGIN:VEVENT
DTSTART;TZID=America/New_York:20280615T080000
DTEND;TZID=America/New_York:20280615T170000
DTSTAMP:20260422T024519
CREATED:20260127T141113Z
LAST-MODIFIED:20260202T154530Z
UID:10000418-1844668800-1844701200@thecastlefuncenter.com
SUMMARY:Burgers and Beer
DESCRIPTION:
URL:https://thecastlefuncenter.com/event/burgers-and-beer/2028-06-15/
LOCATION:The Castle Fun Center\, 109 Brookside Avenue\, Chester\, 10918\, United States
END:VEVENT
BEGIN:VEVENT
DTSTART;TZID=America/New_York:20280622T080000
DTEND;TZID=America/New_York:20280622T170000
DTSTAMP:20260422T024519
CREATED:20260127T141113Z
LAST-MODIFIED:20260202T154530Z
UID:10000419-1845273600-1845306000@thecastlefuncenter.com
SUMMARY:Burgers and Beer
DESCRIPTION:
URL:https://thecastlefuncenter.com/event/burgers-and-beer/2028-06-22/
LOCATION:The Castle Fun Center\, 109 Brookside Avenue\, Chester\, 10918\, United States
END:VEVENT
BEGIN:VEVENT
DTSTART;TZID=America/New_York:20280629T080000
DTEND;TZID=America/New_York:20280629T170000
DTSTAMP:20260422T024519
CREATED:20260127T141113Z
LAST-MODIFIED:20260202T154530Z
UID:10000420-1845878400-1845910800@thecastlefuncenter.com
SUMMARY:Burgers and Beer
DESCRIPTION:
URL:https://thecastlefuncenter.com/event/burgers-and-beer/2028-06-29/
LOCATION:The Castle Fun Center\, 109 Brookside Avenue\, Chester\, 10918\, United States
END:VEVENT
BEGIN:VEVENT
DTSTART;TZID=America/New_York:20280706T080000
DTEND;TZID=America/New_York:20280706T170000
DTSTAMP:20260422T024519
CREATED:20260127T141113Z
LAST-MODIFIED:20260202T154530Z
UID:10000421-1846483200-1846515600@thecastlefuncenter.com
SUMMARY:Burgers and Beer
DESCRIPTION:
URL:https://thecastlefuncenter.com/event/burgers-and-beer/2028-07-06/
LOCATION:The Castle Fun Center\, 109 Brookside Avenue\, Chester\, 10918\, United States
END:VEVENT
BEGIN:VEVENT
DTSTART;TZID=America/New_York:20280713T080000
DTEND;TZID=America/New_York:20280713T170000
DTSTAMP:20260422T024519
CREATED:20260127T141113Z
LAST-MODIFIED:20260202T154530Z
UID:10000422-1847088000-1847120400@thecastlefuncenter.com
SUMMARY:Burgers and Beer
DESCRIPTION:
URL:https://thecastlefuncenter.com/event/burgers-and-beer/2028-07-13/
LOCATION:The Castle Fun Center\, 109 Brookside Avenue\, Chester\, 10918\, United States
END:VEVENT
BEGIN:VEVENT
DTSTART;TZID=America/New_York:20280720T080000
DTEND;TZID=America/New_York:20280720T170000
DTSTAMP:20260422T024519
CREATED:20260127T141113Z
LAST-MODIFIED:20260202T154530Z
UID:10000423-1847692800-1847725200@thecastlefuncenter.com
SUMMARY:Burgers and Beer
DESCRIPTION:
URL:https://thecastlefuncenter.com/event/burgers-and-beer/2028-07-20/
LOCATION:The Castle Fun Center\, 109 Brookside Avenue\, Chester\, 10918\, United States
END:VEVENT
BEGIN:VEVENT
DTSTART;TZID=America/New_York:20280727T080000
DTEND;TZID=America/New_York:20280727T170000
DTSTAMP:20260422T024519
CREATED:20260127T141113Z
LAST-MODIFIED:20260202T154530Z
UID:10000424-1848297600-1848330000@thecastlefuncenter.com
SUMMARY:Burgers and Beer
DESCRIPTION:
URL:https://thecastlefuncenter.com/event/burgers-and-beer/2028-07-27/
LOCATION:The Castle Fun Center\, 109 Brookside Avenue\, Chester\, 10918\, United States
END:VEVENT
BEGIN:VEVENT
DTSTART;TZID=America/New_York:20280803T080000
DTEND;TZID=America/New_York:20280803T170000
DTSTAMP:20260422T024519
CREATED:20260127T141113Z
LAST-MODIFIED:20260202T154530Z
UID:10000425-1848902400-1848934800@thecastlefuncenter.com
SUMMARY:Burgers and Beer
DESCRIPTION:
URL:https://thecastlefuncenter.com/event/burgers-and-beer/2028-08-03/
LOCATION:The Castle Fun Center\, 109 Brookside Avenue\, Chester\, 10918\, United States
END:VEVENT
BEGIN:VEVENT
DTSTART;TZID=America/New_York:20280810T080000
DTEND;TZID=America/New_York:20280810T170000
DTSTAMP:20260422T024519
CREATED:20260127T141113Z
LAST-MODIFIED:20260202T154530Z
UID:10000426-1849507200-1849539600@thecastlefuncenter.com
SUMMARY:Burgers and Beer
DESCRIPTION:
URL:https://thecastlefuncenter.com/event/burgers-and-beer/2028-08-10/
LOCATION:The Castle Fun Center\, 109 Brookside Avenue\, Chester\, 10918\, United States
END:VEVENT
BEGIN:VEVENT
DTSTART;TZID=America/New_York:20280817T080000
DTEND;TZID=America/New_York:20280817T170000
DTSTAMP:20260422T024519
CREATED:20260127T141113Z
LAST-MODIFIED:20260202T154530Z
UID:10000427-1850112000-1850144400@thecastlefuncenter.com
SUMMARY:Burgers and Beer
DESCRIPTION:
URL:https://thecastlefuncenter.com/event/burgers-and-beer/2028-08-17/
LOCATION:The Castle Fun Center\, 109 Brookside Avenue\, Chester\, 10918\, United States
END:VEVENT
BEGIN:VEVENT
DTSTART;TZID=America/New_York:20280824T080000
DTEND;TZID=America/New_York:20280824T170000
DTSTAMP:20260422T024519
CREATED:20260127T141113Z
LAST-MODIFIED:20260202T154530Z
UID:10000428-1850716800-1850749200@thecastlefuncenter.com
SUMMARY:Burgers and Beer
DESCRIPTION:
URL:https://thecastlefuncenter.com/event/burgers-and-beer/2028-08-24/
LOCATION:The Castle Fun Center\, 109 Brookside Avenue\, Chester\, 10918\, United States
END:VEVENT
BEGIN:VEVENT
DTSTART;TZID=America/New_York:20280831T080000
DTEND;TZID=America/New_York:20280831T170000
DTSTAMP:20260422T024519
CREATED:20260127T141113Z
LAST-MODIFIED:20260202T154530Z
UID:10000429-1851321600-1851354000@thecastlefuncenter.com
SUMMARY:Burgers and Beer
DESCRIPTION:
URL:https://thecastlefuncenter.com/event/burgers-and-beer/2028-08-31/
LOCATION:The Castle Fun Center\, 109 Brookside Avenue\, Chester\, 10918\, United States
END:VEVENT
BEGIN:VEVENT
DTSTART;TZID=America/New_York:20280907T080000
DTEND;TZID=America/New_York:20280907T170000
DTSTAMP:20260422T024519
CREATED:20260127T141113Z
LAST-MODIFIED:20260202T154530Z
UID:10000430-1851926400-1851958800@thecastlefuncenter.com
SUMMARY:Burgers and Beer
DESCRIPTION:
URL:https://thecastlefuncenter.com/event/burgers-and-beer/2028-09-07/
LOCATION:The Castle Fun Center\, 109 Brookside Avenue\, Chester\, 10918\, United States
END:VEVENT
BEGIN:VEVENT
DTSTART;TZID=America/New_York:20280914T080000
DTEND;TZID=America/New_York:20280914T170000
DTSTAMP:20260422T024519
CREATED:20260127T141113Z
LAST-MODIFIED:20260202T154530Z
UID:10000431-1852531200-1852563600@thecastlefuncenter.com
SUMMARY:Burgers and Beer
DESCRIPTION:
URL:https://thecastlefuncenter.com/event/burgers-and-beer/2028-09-14/
LOCATION:The Castle Fun Center\, 109 Brookside Avenue\, Chester\, 10918\, United States
END:VEVENT
BEGIN:VEVENT
DTSTART;TZID=America/New_York:20280921T080000
DTEND;TZID=America/New_York:20280921T170000
DTSTAMP:20260422T024519
CREATED:20260127T141113Z
LAST-MODIFIED:20260202T154530Z
UID:10000432-1853136000-1853168400@thecastlefuncenter.com
SUMMARY:Burgers and Beer
DESCRIPTION:
URL:https://thecastlefuncenter.com/event/burgers-and-beer/2028-09-21/
LOCATION:The Castle Fun Center\, 109 Brookside Avenue\, Chester\, 10918\, United States
END:VEVENT
END:VCALENDAR