BEGIN:VCALENDAR
VERSION:2.0
PRODID:-//Castle Fun Center - ECPv6.15.20//NONSGML v1.0//EN
CALSCALE:GREGORIAN
METHOD:PUBLISH
X-WR-CALNAME:Castle Fun Center
X-ORIGINAL-URL:https://thecastlefuncenter.com
X-WR-CALDESC:Events for Castle Fun Center
REFRESH-INTERVAL;VALUE=DURATION:PT1H
X-Robots-Tag:noindex
X-PUBLISHED-TTL:PT1H
BEGIN:VTIMEZONE
TZID:America/New_York
BEGIN:DAYLIGHT
TZOFFSETFROM:-0500
TZOFFSETTO:-0400
TZNAME:EDT
DTSTART:20240310T070000
END:DAYLIGHT
BEGIN:STANDARD
TZOFFSETFROM:-0400
TZOFFSETTO:-0500
TZNAME:EST
DTSTART:20241103T060000
END:STANDARD
BEGIN:DAYLIGHT
TZOFFSETFROM:-0500
TZOFFSETTO:-0400
TZNAME:EDT
DTSTART:20250309T070000
END:DAYLIGHT
BEGIN:STANDARD
TZOFFSETFROM:-0400
TZOFFSETTO:-0500
TZNAME:EST
DTSTART:20251102T060000
END:STANDARD
BEGIN:DAYLIGHT
TZOFFSETFROM:-0500
TZOFFSETTO:-0400
TZNAME:EDT
DTSTART:20260308T070000
END:DAYLIGHT
BEGIN:STANDARD
TZOFFSETFROM:-0400
TZOFFSETTO:-0500
TZNAME:EST
DTSTART:20261101T060000
END:STANDARD
END:VTIMEZONE
BEGIN:VEVENT
DTSTART;TZID=America/New_York:20250619T120000
DTEND;TZID=America/New_York:20250619T200000
DTSTAMP:20260421T114030
CREATED:20250520T191308Z
LAST-MODIFIED:20260202T152701Z
UID:10000022-1750334400-1750363200@thecastlefuncenter.com
SUMMARY:Juneteenth Special Hours
DESCRIPTION:We will be open from 12pm to 8pm on Juneteenth
URL:https://thecastlefuncenter.com/event/juneteenth-special-hours/
LOCATION:The Castle Fun Center\, 109 Brookside Avenue\, Chester\, 10918\, United States
END:VEVENT
BEGIN:VEVENT
DTSTART;TZID=America/New_York:20250520T120000
DTEND;TZID=America/New_York:20250520T200000
DTSTAMP:20260421T114030
CREATED:20250520T191052Z
LAST-MODIFIED:20260202T153101Z
UID:10000021-1747742400-1747771200@thecastlefuncenter.com
SUMMARY:Memorial Day Special Hours
DESCRIPTION:We will be open from 12pm to 8pm on Memorial Day
URL:https://thecastlefuncenter.com/event/memorial-day-special-hours/
LOCATION:The Castle Fun Center\, 109 Brookside Avenue\, Chester\, 10918\, United States
END:VEVENT
BEGIN:VEVENT
DTSTART;TZID=America/New_York:20250406T090000
DTEND;TZID=America/New_York:20250406T110000
DTSTAMP:20260421T114031
CREATED:20250319T182207Z
LAST-MODIFIED:20260202T153302Z
UID:10000019-1743930000-1743937200@thecastlefuncenter.com
SUMMARY:Breakfast with The Easter Bunny
DESCRIPTION:
URL:https://thecastlefuncenter.com/event/breakfast-with-the-easter-bunny/
LOCATION:The Castle Fun Center\, 109 Brookside Avenue\, Chester\, 10918\, United States
END:VEVENT
BEGIN:VEVENT
DTSTART;TZID=America/New_York:20250226T190000
DTEND;TZID=America/New_York:20250226T220000
DTSTAMP:20260421T114031
CREATED:20250212T150923Z
LAST-MODIFIED:20260217T212544Z
UID:10000018-1740596400-1740607200@thecastlefuncenter.com
SUMMARY:Bowling League
DESCRIPTION:Stay tuned for announcements about upcoming Bowling Leagues!
URL:https://thecastlefuncenter.com/event/bowling-league/
LOCATION:The Castle Fun Center\, 109 Brookside Avenue\, Chester\, 10918\, United States
CATEGORIES:Bowling League
ATTACH;FMTTYPE=image/jpeg:https://thecastlefuncenter.com/wp-content/uploads/2025/02/Bowling-League-Flyer-Feb-2025-scaled.jpg
END:VEVENT
END:VCALENDAR